BEGIN:VCALENDAR
VERSION:2.0
PRODID:-//Old CCEE - ECPv6.15.20//NONSGML v1.0//EN
CALSCALE:GREGORIAN
METHOD:PUBLISH
X-ORIGINAL-URL:https://ccee.engr.it
X-WR-CALDESC:Events for Old CCEE
REFRESH-INTERVAL;VALUE=DURATION:PT1H
X-Robots-Tag:noindex
X-PUBLISHED-TTL:PT1H
BEGIN:VTIMEZONE
TZID:America/New_York
BEGIN:DAYLIGHT
TZOFFSETFROM:-0500
TZOFFSETTO:-0400
TZNAME:EDT
DTSTART:20150308T070000
END:DAYLIGHT
BEGIN:STANDARD
TZOFFSETFROM:-0400
TZOFFSETTO:-0500
TZNAME:EST
DTSTART:20151101T060000
END:STANDARD
BEGIN:DAYLIGHT
TZOFFSETFROM:-0500
TZOFFSETTO:-0400
TZNAME:EDT
DTSTART:20160313T070000
END:DAYLIGHT
BEGIN:STANDARD
TZOFFSETFROM:-0400
TZOFFSETTO:-0500
TZNAME:EST
DTSTART:20161106T060000
END:STANDARD
BEGIN:DAYLIGHT
TZOFFSETFROM:-0500
TZOFFSETTO:-0400
TZNAME:EDT
DTSTART:20170312T070000
END:DAYLIGHT
BEGIN:STANDARD
TZOFFSETFROM:-0400
TZOFFSETTO:-0500
TZNAME:EST
DTSTART:20171105T060000
END:STANDARD
BEGIN:DAYLIGHT
TZOFFSETFROM:-0500
TZOFFSETTO:-0400
TZNAME:EDT
DTSTART:20180311T070000
END:DAYLIGHT
BEGIN:STANDARD
TZOFFSETFROM:-0400
TZOFFSETTO:-0500
TZNAME:EST
DTSTART:20181104T060000
END:STANDARD
BEGIN:DAYLIGHT
TZOFFSETFROM:-0500
TZOFFSETTO:-0400
TZNAME:EDT
DTSTART:20190310T070000
END:DAYLIGHT
BEGIN:STANDARD
TZOFFSETFROM:-0400
TZOFFSETTO:-0500
TZNAME:EST
DTSTART:20191103T060000
END:STANDARD
BEGIN:DAYLIGHT
TZOFFSETFROM:-0500
TZOFFSETTO:-0400
TZNAME:EDT
DTSTART:20200308T070000
END:DAYLIGHT
BEGIN:STANDARD
TZOFFSETFROM:-0400
TZOFFSETTO:-0500
TZNAME:EST
DTSTART:20201101T060000
END:STANDARD
BEGIN:DAYLIGHT
TZOFFSETFROM:-0500
TZOFFSETTO:-0400
TZNAME:EDT
DTSTART:20210314T070000
END:DAYLIGHT
BEGIN:STANDARD
TZOFFSETFROM:-0400
TZOFFSETTO:-0500
TZNAME:EST
DTSTART:20211107T060000
END:STANDARD
END:VTIMEZONE
BEGIN:VEVENT
DTSTART;TZID=America/New_York:20200814T150000
DTEND;TZID=America/New_York:20200814T160000
DTSTAMP:20260421T190235
CREATED:20200515T214207Z
LAST-MODIFIED:20200516T165539Z
UID:10000813-1597417200-1597420800@ccee.engr.it
SUMMARY:Virtual meetings for prospective undergraduate students
DESCRIPTION:Join our Q&A sessions for more info. \nAre you interested in learning more about the Department of Civil\, Construction\, and Environmental Engineering before you make your college decision? Then join our biweekly Q&A sessions with Dr. Rudi Seracino\, Professor and Associate Head of Undergraduate Programs\, along with one of our undergraduate student ambassadors. \nWhen: Every other Friday (starting May 22\, 2020 to August 14\, 2020) at 3:00 – 4:00 PM Eastern Time. \nWhere: Virtual meeting via Zoom. Sign up for a session here.
URL:https://ccee.engr.it/event/virtual-meetings-for-prospective-undergraduate-students/2020-08-14/
LOCATION:https://ncsu.zoom.us/meeting/register/tJ0ofuuppzIpEtwI3Tfmy2l-2XCHrOEVZ9Fb\, NC\, United States
CATEGORIES:Appear On Homepage,Networking,Training
END:VEVENT
BEGIN:VEVENT
DTSTART;TZID=America/New_York:20200731T150000
DTEND;TZID=America/New_York:20200731T160000
DTSTAMP:20260421T190235
CREATED:20200515T214207Z
LAST-MODIFIED:20200516T165539Z
UID:10000812-1596207600-1596211200@ccee.engr.it
SUMMARY:Virtual meetings for prospective undergraduate students
DESCRIPTION:Join our Q&A sessions for more info. \nAre you interested in learning more about the Department of Civil\, Construction\, and Environmental Engineering before you make your college decision? Then join our biweekly Q&A sessions with Dr. Rudi Seracino\, Professor and Associate Head of Undergraduate Programs\, along with one of our undergraduate student ambassadors. \nWhen: Every other Friday (starting May 22\, 2020 to August 14\, 2020) at 3:00 – 4:00 PM Eastern Time. \nWhere: Virtual meeting via Zoom. Sign up for a session here.
URL:https://ccee.engr.it/event/virtual-meetings-for-prospective-undergraduate-students/2020-07-31/
LOCATION:https://ncsu.zoom.us/meeting/register/tJ0ofuuppzIpEtwI3Tfmy2l-2XCHrOEVZ9Fb\, NC\, United States
CATEGORIES:Appear On Homepage,Networking,Training
END:VEVENT
BEGIN:VEVENT
DTSTART;TZID=America/New_York:20200717T150000
DTEND;TZID=America/New_York:20200717T160000
DTSTAMP:20260421T190235
CREATED:20200515T214207Z
LAST-MODIFIED:20200516T165539Z
UID:10000811-1594998000-1595001600@ccee.engr.it
SUMMARY:Virtual meetings for prospective undergraduate students
DESCRIPTION:Join our Q&A sessions for more info. \nAre you interested in learning more about the Department of Civil\, Construction\, and Environmental Engineering before you make your college decision? Then join our biweekly Q&A sessions with Dr. Rudi Seracino\, Professor and Associate Head of Undergraduate Programs\, along with one of our undergraduate student ambassadors. \nWhen: Every other Friday (starting May 22\, 2020 to August 14\, 2020) at 3:00 – 4:00 PM Eastern Time. \nWhere: Virtual meeting via Zoom. Sign up for a session here.
URL:https://ccee.engr.it/event/virtual-meetings-for-prospective-undergraduate-students/2020-07-17/
LOCATION:https://ncsu.zoom.us/meeting/register/tJ0ofuuppzIpEtwI3Tfmy2l-2XCHrOEVZ9Fb\, NC\, United States
CATEGORIES:Appear On Homepage,Networking,Training
END:VEVENT
BEGIN:VEVENT
DTSTART;TZID=America/New_York:20200703T150000
DTEND;TZID=America/New_York:20200703T160000
DTSTAMP:20260421T190235
CREATED:20200515T214207Z
LAST-MODIFIED:20200516T165539Z
UID:10000810-1593788400-1593792000@ccee.engr.it
SUMMARY:Virtual meetings for prospective undergraduate students
DESCRIPTION:Join our Q&A sessions for more info. \nAre you interested in learning more about the Department of Civil\, Construction\, and Environmental Engineering before you make your college decision? Then join our biweekly Q&A sessions with Dr. Rudi Seracino\, Professor and Associate Head of Undergraduate Programs\, along with one of our undergraduate student ambassadors. \nWhen: Every other Friday (starting May 22\, 2020 to August 14\, 2020) at 3:00 – 4:00 PM Eastern Time. \nWhere: Virtual meeting via Zoom. Sign up for a session here.
URL:https://ccee.engr.it/event/virtual-meetings-for-prospective-undergraduate-students/2020-07-03/
LOCATION:https://ncsu.zoom.us/meeting/register/tJ0ofuuppzIpEtwI3Tfmy2l-2XCHrOEVZ9Fb\, NC\, United States
CATEGORIES:Appear On Homepage,Networking,Training
END:VEVENT
BEGIN:VEVENT
DTSTART;TZID=America/New_York:20200619T150000
DTEND;TZID=America/New_York:20200619T160000
DTSTAMP:20260421T190235
CREATED:20200515T214207Z
LAST-MODIFIED:20200516T165539Z
UID:10000809-1592578800-1592582400@ccee.engr.it
SUMMARY:Virtual meetings for prospective undergraduate students
DESCRIPTION:Join our Q&A sessions for more info. \nAre you interested in learning more about the Department of Civil\, Construction\, and Environmental Engineering before you make your college decision? Then join our biweekly Q&A sessions with Dr. Rudi Seracino\, Professor and Associate Head of Undergraduate Programs\, along with one of our undergraduate student ambassadors. \nWhen: Every other Friday (starting May 22\, 2020 to August 14\, 2020) at 3:00 – 4:00 PM Eastern Time. \nWhere: Virtual meeting via Zoom. Sign up for a session here.
URL:https://ccee.engr.it/event/virtual-meetings-for-prospective-undergraduate-students/2020-06-19/
LOCATION:https://ncsu.zoom.us/meeting/register/tJ0ofuuppzIpEtwI3Tfmy2l-2XCHrOEVZ9Fb\, NC\, United States
CATEGORIES:Appear On Homepage,Networking,Training
END:VEVENT
BEGIN:VEVENT
DTSTART;TZID=America/New_York:20200605T150000
DTEND;TZID=America/New_York:20200605T160000
DTSTAMP:20260421T190235
CREATED:20200515T214207Z
LAST-MODIFIED:20200516T165539Z
UID:10000808-1591369200-1591372800@ccee.engr.it
SUMMARY:Virtual meetings for prospective undergraduate students
DESCRIPTION:Join our Q&A sessions for more info. \nAre you interested in learning more about the Department of Civil\, Construction\, and Environmental Engineering before you make your college decision? Then join our biweekly Q&A sessions with Dr. Rudi Seracino\, Professor and Associate Head of Undergraduate Programs\, along with one of our undergraduate student ambassadors. \nWhen: Every other Friday (starting May 22\, 2020 to August 14\, 2020) at 3:00 – 4:00 PM Eastern Time. \nWhere: Virtual meeting via Zoom. Sign up for a session here.
URL:https://ccee.engr.it/event/virtual-meetings-for-prospective-undergraduate-students/2020-06-05/
LOCATION:https://ncsu.zoom.us/meeting/register/tJ0ofuuppzIpEtwI3Tfmy2l-2XCHrOEVZ9Fb\, NC\, United States
CATEGORIES:Appear On Homepage,Networking,Training
END:VEVENT
BEGIN:VEVENT
DTSTART;TZID=America/New_York:20200522T150000
DTEND;TZID=America/New_York:20200522T160000
DTSTAMP:20260421T190235
CREATED:20200515T214207Z
LAST-MODIFIED:20200516T165539Z
UID:10000807-1590159600-1590163200@ccee.engr.it
SUMMARY:Virtual meetings for prospective undergraduate students
DESCRIPTION:Join our Q&A sessions for more info. \nAre you interested in learning more about the Department of Civil\, Construction\, and Environmental Engineering before you make your college decision? Then join our biweekly Q&A sessions with Dr. Rudi Seracino\, Professor and Associate Head of Undergraduate Programs\, along with one of our undergraduate student ambassadors. \nWhen: Every other Friday (starting May 22\, 2020 to August 14\, 2020) at 3:00 – 4:00 PM Eastern Time. \nWhere: Virtual meeting via Zoom. Sign up for a session here.
URL:https://ccee.engr.it/event/virtual-meetings-for-prospective-undergraduate-students/2020-05-22/
LOCATION:https://ncsu.zoom.us/meeting/register/tJ0ofuuppzIpEtwI3Tfmy2l-2XCHrOEVZ9Fb\, NC\, United States
CATEGORIES:Appear On Homepage,Networking,Training
END:VEVENT
BEGIN:VEVENT
DTSTART;TZID=America/New_York:20190923T150000
DTEND;TZID=America/New_York:20190923T170000
DTSTAMP:20260421T190235
CREATED:20190921T152308Z
LAST-MODIFIED:20190921T152358Z
UID:10000630-1569250800-1569258000@ccee.engr.it
SUMMARY:18th annual Paul Zia Distinguished Lecture
DESCRIPTION:18th annual Paul Zia Distinguished Lecture will held from 3:00 to 5:00 PM at Stewart Theater in Talley Student Union\, NCSU Main Campus. We are proud to feature presenters Dr. Yang Jiang\, PE\, SE Principal Engineer of HNTB; and Dr. Mike Wongkaew\, PE\, SE\, Associate Vice President and National Tunnel Practice Lead of HNTB; with a special welcome by Linea Laird\, PE of WSP USA. \nThe presenters will discuss various topics related to the design and construction the 2-mile double-decker tunnel under downtown Seattle\, including the design and construction of the 57.5-ft diameter tunnel and owner considerations for the $3.3 billion project. \nThe lecture is free and open to the public. 2 PDHs will be available. Following the lecture\, all professional attendees are invited to stay for a cocktail reception sponsored by WSP USA. For more details and registration information please visit https://zialecture.com.
URL:https://ccee.engr.it/event/18th-annual-paul-zia-distinguished-lecture/
LOCATION:Stewart Theater\, Raleigh\, NC\, United States
CATEGORIES:Appear On Homepage,Networking,Seminars
END:VEVENT
BEGIN:VEVENT
DTSTART;TZID=America/New_York:20190327T173000
DTEND;TZID=America/New_York:20190327T193000
DTSTAMP:20260421T190235
CREATED:20190312T190338Z
LAST-MODIFIED:20190312T190735Z
UID:10000598-1553707800-1553715000@ccee.engr.it
SUMMARY:Spring CCEE Alumni Social
DESCRIPTION:  \nPlease RSVP Here.
URL:https://ccee.engr.it/event/spring-ccee-alumni-social/
LOCATION:NC
CATEGORIES:Appear On Homepage,Networking
END:VEVENT
BEGIN:VEVENT
DTSTART;TZID=America/New_York:20161215T133000
DTEND;TZID=America/New_York:20161215T150000
DTSTAMP:20260421T190235
CREATED:20161209T135337Z
LAST-MODIFIED:20161209T135356Z
UID:10000617-1481808600-1481814000@ccee.engr.it
SUMMARY:CCEE Graduation
DESCRIPTION:CCEE Fall 2016 Graduation ceremony will be held at the McKimmon Center. Our graduation speaker is Ms. Emilee Blount\, Director Engineering\, Technology and Geospatial Services  for the US Forest Service in Washington DC.
URL:https://ccee.engr.it/event/ccee-graduation/
LOCATION:McKimmon Center\, 1101 Gorman St\, Raleigh\, NC\, 27606\, United States
CATEGORIES:Appear On Homepage,Networking
GEO:35.7827103;-78.6852193
X-APPLE-STRUCTURED-LOCATION;VALUE=URI;X-ADDRESS=McKimmon Center 1101 Gorman St Raleigh NC 27606 United States;X-APPLE-RADIUS=500;X-TITLE=1101 Gorman St:geo:-78.6852193,35.7827103
END:VEVENT
BEGIN:VEVENT
DTSTART;TZID=America/New_York:20160826T133000
DTEND;TZID=America/New_York:20160826T143000
DTSTAMP:20260421T190235
CREATED:20160824T164859Z
LAST-MODIFIED:20160824T165732Z
UID:10000569-1472218200-1472221800@ccee.engr.it
SUMMARY:Computing and Systems Welcome Back Social
DESCRIPTION:Enjoy ice cream\, learn about our program and meet faculty and students!
URL:https://ccee.engr.it/event/computing-and-systems-welcome-back-social/
LOCATION:Mann Hall\, 2501 Katharine Stinson Dr.\, Raleigh\, NC\, 27695\, United States
CATEGORIES:Appear On Homepage,Networking
GEO:35.784799;-78.666752
X-APPLE-STRUCTURED-LOCATION;VALUE=URI;X-ADDRESS=Mann Hall 2501 Katharine Stinson Dr. Raleigh NC 27695 United States;X-APPLE-RADIUS=500;X-TITLE=2501 Katharine Stinson Dr.:geo:-78.666752,35.784799
END:VEVENT
BEGIN:VEVENT
DTSTART;TZID=America/New_York:20160823T153000
DTEND;TZID=America/New_York:20160823T173000
DTSTAMP:20260421T190235
CREATED:20160814T163419Z
LAST-MODIFIED:20160814T163419Z
UID:10000560-1471966200-1471973400@ccee.engr.it
SUMMARY:Welcome back ice cream social
DESCRIPTION:Enjoy ice cream on Tuesday\, August 23 from 3:30-5:30 in the Mann Hall Lobby. Student groups will have tables setup to recruit members.
URL:https://ccee.engr.it/event/welcome-back-ice-cream-social/
LOCATION:Mann Hall\, 2501 Katharine Stinson Dr.\, Raleigh\, NC\, 27695\, United States
CATEGORIES:Appear On Homepage,Networking
GEO:35.784799;-78.666752
X-APPLE-STRUCTURED-LOCATION;VALUE=URI;X-ADDRESS=Mann Hall 2501 Katharine Stinson Dr. Raleigh NC 27695 United States;X-APPLE-RADIUS=500;X-TITLE=2501 Katharine Stinson Dr.:geo:-78.666752,35.784799
END:VEVENT
END:VCALENDAR