BEGIN:VCALENDAR
VERSION:2.0
PRODID:-//Old CCEE - ECPv6.15.20//NONSGML v1.0//EN
CALSCALE:GREGORIAN
METHOD:PUBLISH
X-WR-CALNAME:Old CCEE
X-ORIGINAL-URL:https://ccee.engr.it
X-WR-CALDESC:Events for Old CCEE
REFRESH-INTERVAL;VALUE=DURATION:PT1H
X-Robots-Tag:noindex
X-PUBLISHED-TTL:PT1H
BEGIN:VTIMEZONE
TZID:America/New_York
BEGIN:DAYLIGHT
TZOFFSETFROM:-0500
TZOFFSETTO:-0400
TZNAME:EDT
DTSTART:20250309T070000
END:DAYLIGHT
BEGIN:STANDARD
TZOFFSETFROM:-0400
TZOFFSETTO:-0500
TZNAME:EST
DTSTART:20251102T060000
END:STANDARD
BEGIN:DAYLIGHT
TZOFFSETFROM:-0500
TZOFFSETTO:-0400
TZNAME:EDT
DTSTART:20260308T070000
END:DAYLIGHT
BEGIN:STANDARD
TZOFFSETFROM:-0400
TZOFFSETTO:-0500
TZNAME:EST
DTSTART:20261101T060000
END:STANDARD
BEGIN:DAYLIGHT
TZOFFSETFROM:-0500
TZOFFSETTO:-0400
TZNAME:EDT
DTSTART:20270314T070000
END:DAYLIGHT
BEGIN:STANDARD
TZOFFSETFROM:-0400
TZOFFSETTO:-0500
TZNAME:EST
DTSTART:20271107T060000
END:STANDARD
END:VTIMEZONE
BEGIN:VEVENT
DTSTART;TZID=America/New_York:20260328T090000
DTEND;TZID=America/New_York:20260328T140000
DTSTAMP:20260421T093327
CREATED:20251118T204727Z
LAST-MODIFIED:20260130T210848Z
UID:10001012-1774688400-1774706400@ccee.engr.it
SUMMARY:Spring 2026 Engineering Open House
DESCRIPTION:Join #NCStateCCEE on Saturday\, March 28 during Engineering Open House! Explore our exciting field by meeting with industry leaders and engaging with student organizations like Earthquake Engineering Research Institute and American Society of Civil Engineers. Chat with faculty and students\, tour our state-of-the-art labs and more! \nDate: Saturday\, March 28\, 2026 \nTime: 9 a.m. – 2 p.m. \nEngineering Open House details
URL:https://ccee.engr.it/event/spring-2026-engineering-open-house/
LOCATION:Centennial Campus
CATEGORIES:Appear On Homepage
ATTACH;FMTTYPE=image/jpeg:https://ccee.engr.it/wp-content/uploads/2025/11/CCEE-Open-House.jpg
END:VEVENT
BEGIN:VEVENT
DTSTART;TZID=America/New_York:20260420T150000
DTEND;TZID=America/New_York:20260420T160000
DTSTAMP:20260421T093327
CREATED:20260317T151933Z
LAST-MODIFIED:20260317T152254Z
UID:10001020-1776697200-1776700800@ccee.engr.it
SUMMARY:Three Minute Thesis Competition
DESCRIPTION:The Three Minute Thesis (3MT) competition gives students the opportunity to effectively explain their research to an audience of non-engineers. The catch: each student gets three minutes and one static visual slide to explain their thesis topic and its significance to society. Participating in 3MT helps students develop skills for teaching\, pitching an idea to business investors or communicating research to the media and policymakers.
URL:https://ccee.engr.it/event/three-minute-thesis-competition-3/
LOCATION:College of Textiles 2207\, 1020 Main Campus Dr\, Raleigh\, NC
CATEGORIES:Networking,Workshops
END:VEVENT
BEGIN:VEVENT
DTSTART;TZID=America/New_York:20260423T113000
DTEND;TZID=America/New_York:20260423T133000
DTSTAMP:20260421T093327
CREATED:20260414T193317Z
LAST-MODIFIED:20260415T143330Z
UID:10001022-1776943800-1776951000@ccee.engr.it
SUMMARY:End of Semester Picnic
DESCRIPTION:We’re planning our first annual end of semester picnic! CCEE students\, faculty and staff are welcome to grab lunch on the Oval and celebrate the end of the year. There will be free tacos from Moe’s and lawn games! This event would take place April 23 from 11:30am-1:30pm. \nPlease fill out the following form if you’re interested in attending. \nhttps://docs.google.com/forms/d/1x-uYGON_VT1sOmGzIvrbRFejUGD9szV66DibKhOMBRQ/edit?ts=69de6de3 \n 
URL:https://ccee.engr.it/event/end-of-semester-picnic/
LOCATION:The Oval on Centennial Campus\, Raleigh\, NC\, United States
ATTACH;FMTTYPE=image/jpeg:https://ccee.engr.it/wp-content/uploads/2026/03/MAH4864-scaled.jpg
END:VEVENT
END:VCALENDAR