BEGIN:VCALENDAR
VERSION:2.0
PRODID:-//Old CCEE - ECPv6.15.20//NONSGML v1.0//EN
CALSCALE:GREGORIAN
METHOD:PUBLISH
X-WR-CALNAME:Old CCEE
X-ORIGINAL-URL:https://ccee.engr.it
X-WR-CALDESC:Events for Old CCEE
REFRESH-INTERVAL;VALUE=DURATION:PT1H
X-Robots-Tag:noindex
X-PUBLISHED-TTL:PT1H
BEGIN:VTIMEZONE
TZID:America/New_York
BEGIN:DAYLIGHT
TZOFFSETFROM:-0500
TZOFFSETTO:-0400
TZNAME:EDT
DTSTART:20220313T070000
END:DAYLIGHT
BEGIN:STANDARD
TZOFFSETFROM:-0400
TZOFFSETTO:-0500
TZNAME:EST
DTSTART:20221106T060000
END:STANDARD
BEGIN:DAYLIGHT
TZOFFSETFROM:-0500
TZOFFSETTO:-0400
TZNAME:EDT
DTSTART:20230312T070000
END:DAYLIGHT
BEGIN:STANDARD
TZOFFSETFROM:-0400
TZOFFSETTO:-0500
TZNAME:EST
DTSTART:20231105T060000
END:STANDARD
BEGIN:DAYLIGHT
TZOFFSETFROM:-0500
TZOFFSETTO:-0400
TZNAME:EDT
DTSTART:20240310T070000
END:DAYLIGHT
BEGIN:STANDARD
TZOFFSETFROM:-0400
TZOFFSETTO:-0500
TZNAME:EST
DTSTART:20241103T060000
END:STANDARD
BEGIN:DAYLIGHT
TZOFFSETFROM:-0500
TZOFFSETTO:-0400
TZNAME:EDT
DTSTART:20250309T070000
END:DAYLIGHT
BEGIN:STANDARD
TZOFFSETFROM:-0400
TZOFFSETTO:-0500
TZNAME:EST
DTSTART:20251102T060000
END:STANDARD
BEGIN:DAYLIGHT
TZOFFSETFROM:-0500
TZOFFSETTO:-0400
TZNAME:EDT
DTSTART:20260308T070000
END:DAYLIGHT
BEGIN:STANDARD
TZOFFSETFROM:-0400
TZOFFSETTO:-0500
TZNAME:EST
DTSTART:20261101T060000
END:STANDARD
END:VTIMEZONE
BEGIN:VEVENT
DTSTART;TZID=America/New_York:20250303T150000
DTEND;TZID=America/New_York:20250303T173000
DTSTAMP:20260421T214653
CREATED:20250128T170019Z
LAST-MODIFIED:20250128T170019Z
UID:10000996-1741014000-1741023000@ccee.engr.it
SUMMARY:2025 Shaw Lecture - Smart City Digital Twins: Toward More Sustainable\, Resilient\, and Livable Cities
DESCRIPTION:Smart City Digital Twins: Toward More Sustainable\, Resilient\, and Livable Cities\nMarch 3\, 2025\n3:00-4:30pm\, followed by a reception\nDuke Energy Hall\, Hunt Library \nJohn E. Taylor\, PhD\, NAC\nFrederick Law Olmsted Professor\nAssociate Chair for Faculty Development and Research Innovation\, Civil and Environmental Engineering\nGeorgia Tech \nABSTRACT:\nReports by the National Academies in the United States have encouraged investment in developing a more comprehensive understanding of network dynamics at the intersection between human and engineered networks. Concurrently\, cities are addressing rapid urbanization challenges by implementing socio-technological changes in their infrastructure systems as they evolve toward becoming smarter cities. The success of such an evolution\, however\, relies on solutions that can combine data from individual infrastructure components to urban scale networks. A great deal of research has focused on developing an understanding of data analytics at the scale of the city and of individual infrastructure components. However\, there is a gap in our understanding\, data collection approaches\, and analytical methods to integrate and visualize such disparate data and complex network dynamics. This presentation will describe efforts to formalize and implement a Smart City Digital Twin platform\, with an emphasis on efforts to understand\, model\, and improve energy consumption and disaster mobility across spatial scales in cities\, to foster more sustainable\, resilient\, and livable cities. \nPRESENTER BIO:\nDr. John E. Taylor is the inaugural Frederick Law Olmsted Professor of Civil and Environmental Engineering at Georgia Tech\, where he currently serves as the Associate Chair for Faculty Development and Research Innovation in the School of Civil and Environmental Engineering. Dr. Taylor received his PhD from Stanford University in 2006. At Georgia Tech\, he is founder and Director of the Network Dynamics Lab\, which focuses on; (1) achieving sustained energy conservation by coupling energy use with occupant networks and examining inter-building network phenomena in cities\, and (2) understanding and improving response times by affected human networks during extreme events in urban areas. Dr. Taylor’s research has received over $8M in funding from the National Science Foundation\, the Department of Energy\, the Alfred P. Sloan Foundation\, and other public and private funding sources. His research was awarded the National Science Foundation’s CAREER Award in 2011. In 2020\, Dr. Taylor was elected into the National Academy of Construction for his research and pedagogical efforts to improve urban sustainability and resilience and guide the evolution of smart cities. Dr. Taylor has authored over 250 technical publications\, won five journal best paper awards\, and founded two technology startups.
URL:https://ccee.engr.it/event/2025-shaw-lecture-smart-city-digital-twins-toward-more-sustainable-resilient-and-livable-cities/
LOCATION:Hunt Library\, Duke Energy Hall\, Raleigh\, NC\, United States
CATEGORIES:Appear On Homepage,Seminars
END:VEVENT
BEGIN:VEVENT
DTSTART;TZID=America/New_York:20250218T100000
DTEND;TZID=America/New_York:20250219T150000
DTSTAMP:20260421T214653
CREATED:20250107T174719Z
LAST-MODIFIED:20250107T174719Z
UID:10000993-1739872800-1739977200@ccee.engr.it
SUMMARY:CCEE Career Connections
DESCRIPTION:The Civil\, Construction\, and Environmental Engineering (CCEE) Career Connections event is a unique opportunity for employers to introduce their firm/company and network with students. \nAttendees will be undergraduate and graduate students who are actively seeking internships\, co-ops\, and full-time positions. \nThis is a 2-day event on February 18 and 19 from 10:00 a.m. – 3:00 p.m.
URL:https://ccee.engr.it/event/ccee-career-connections-3/
LOCATION:Duke Energy Hall Room 2110C and 2110D in James B. Hunt\, Jr. Library\, 1070 Partners Way\, Raleigh\, NC\, United States
CATEGORIES:Appear On Homepage,Networking
END:VEVENT
BEGIN:VEVENT
DTSTART;VALUE=DATE:20250211
DTEND;VALUE=DATE:20250212
DTSTAMP:20260421T214653
CREATED:20250122T201749Z
LAST-MODIFIED:20250122T201749Z
UID:10000994-1739232000-1739318399@ccee.engr.it
SUMMARY:Wellness Day (no classes)
DESCRIPTION:The university will observe a Wellness Day on Tuesday\, February 11\, 2025. Classes will not be held on this day\, but the university will remain open for operations. \nwellness.ncsu.edu/wellness-day/
URL:https://ccee.engr.it/event/wellness-day-no-classes/
LOCATION:NC
END:VEVENT
BEGIN:VEVENT
DTSTART;TZID=America/New_York:20250203T150000
DTEND;TZID=America/New_York:20250203T163000
DTSTAMP:20260421T214653
CREATED:20250128T170446Z
LAST-MODIFIED:20250128T170446Z
UID:10000997-1738594800-1738600200@ccee.engr.it
SUMMARY:Research & Seminars Committee Workshop: Using AI in Research
DESCRIPTION:Research & Seminars Committee Workshop: Using AI in Research\nHybrid event: zoom link (if needed\, passcode 358774)\nFebruary 3\, 2025\n3:00 – 4:30pm ET\nFWH 3301 \nTyler Kroon is a Research Librarian for Engineering at NC State and liaison librarian to the CCEE department. In this workshop\, he will explore the role of AI-powered tools in academic research and writing\, demonstrating specific tools that could help enhance workflows and addressing their benefits\, limitations\, and ethical considerations to make when using them. The session will also offer guidance on making informed decisions about when to use AI tools—and when not to—and strategies for mentoring students in responsible AI use.
URL:https://ccee.engr.it/event/research-seminars-committee-workshop-using-ai-in-research/
LOCATION:Fitts-Woolard Hall 3301\, Raleigh\, NC\, United States
CATEGORIES:Appear On Homepage,Seminars
END:VEVENT
BEGIN:VEVENT
DTSTART;TZID=America/New_York:20241213T100000
DTEND;TZID=America/New_York:20241213T113000
DTSTAMP:20260421T214653
CREATED:20241118T213126Z
LAST-MODIFIED:20241118T213126Z
UID:10000990-1734084000-1734089400@ccee.engr.it
SUMMARY:Fall 2024 CCEE Graduation Ceremony
DESCRIPTION:Guest Speaker: Jon Holtvedt\, DR Horton\, CCEE Advisory Board Member \nGuest Tickets: Fall 2024 Graduation will not require tickets for guests.\nThe CCEE Department Graduation Ceremony will not require tickets for entry for family and friends for the December 2024 ceremony. We ask that all students be mindful of other graduates\, and try to limit the number of guests to six per graduate.
URL:https://ccee.engr.it/event/fall-2024-ccee-graduation-ceremony/
LOCATION:McKimmon Center\, Room 1
CATEGORIES:Appear On Homepage
END:VEVENT
BEGIN:VEVENT
DTSTART;TZID=America/New_York:20241203T153000
DTEND;TZID=America/New_York:20241203T183000
DTSTAMP:20260421T214653
CREATED:20241118T213931Z
LAST-MODIFIED:20241118T213931Z
UID:10000991-1733239800-1733250600@ccee.engr.it
SUMMARY:Seminar: "Keys to Developing and Delivering Policy-Relevant Science to Inform Decisions"
DESCRIPTION:Dr. Chris Frey\, Associate Dean of Research and Infrastructure of NC State’s College of Engineering\, is presenting a seminar “Keys to Developing and Delivering Policy-Relevant Science to Inform Decisions” on Tuesday\, Dec. 3 from 3:30pm – 4:30pm in Fitts-Woolard Hall. Reception to follow at Raleigh Founded. \nRSVP here \n 
URL:https://ccee.engr.it/event/seminar-keys-to-developing-and-delivering-policy-relevant-science-to-inform-decisions/
LOCATION:Fitts-Woolard Hall\, 915 Partners Way\, Raleigh\, NC\, 24606\, United States
END:VEVENT
BEGIN:VEVENT
DTSTART;VALUE=DATE:20241101
DTEND;VALUE=DATE:20241102
DTSTAMP:20260421T214653
CREATED:20240612T183359Z
LAST-MODIFIED:20240612T183359Z
UID:10000983-1730419200-1730505599@ccee.engr.it
SUMMARY:2024 CCEE Hall of Fame Induction Ceremony
DESCRIPTION:Ceremony to be held in the morning at Duke Energy Hall in Hunt Library. More details to come.
URL:https://ccee.engr.it/event/2024-ccee-hall-of-fame-induction-ceremony/
LOCATION:Duke Energy Hall Room 2110C and 2110D in James B. Hunt\, Jr. Library\, 1070 Partners Way\, Raleigh\, NC\, United States
END:VEVENT
BEGIN:VEVENT
DTSTART;TZID=America/New_York:20241030T120000
DTEND;TZID=America/New_York:20241030T130000
DTSTAMP:20260421T214653
CREATED:20240808T182141Z
LAST-MODIFIED:20240808T182141Z
UID:10000988-1730289600-1730293200@ccee.engr.it
SUMMARY:Writing Literature Reviews
DESCRIPTION:In this seminar hosted by CCEE faculty member Dr. Meagan Kittle Autry\, we will cover how to write a literature review. This workshop is designed for any CCEE graduate students or postdoc.
URL:https://ccee.engr.it/event/writing-literature-reviews/
LOCATION:Fitts-Woolard Hall 3361\, Raleigh\, NC\, United States
CATEGORIES:Appear On Homepage,Seminars
END:VEVENT
BEGIN:VEVENT
DTSTART;TZID=America/New_York:20241007T150000
DTEND;TZID=America/New_York:20241007T170000
DTSTAMP:20260421T214653
CREATED:20240702T143943Z
LAST-MODIFIED:20240702T143943Z
UID:10000984-1728313200-1728320400@ccee.engr.it
SUMMARY:Paul Zia Distinguished Lecture
DESCRIPTION:Topic: Frederick Douglass Memorial Bridge in Washington\, D.C. \nFor more information\, visit zialecture.com.
URL:https://ccee.engr.it/event/paul-zia-distinguished-lecture/
LOCATION:Stewart Theatre\, Talley Student Union\, NC State\, 2610 Cates Avenue\, Raleigh
CATEGORIES:Appear On Homepage,Seminars
END:VEVENT
BEGIN:VEVENT
DTSTART;TZID=America/New_York:20241001T100000
DTEND;TZID=America/New_York:20241001T110000
DTSTAMP:20260421T214653
CREATED:20240808T181906Z
LAST-MODIFIED:20240808T181906Z
UID:10000987-1727776800-1727780400@ccee.engr.it
SUMMARY:Preparing for Academic Job Interviews
DESCRIPTION:In this workshop\, you will learn how to prepare for first and second round faculty job interviews. This workshop is designed for advanced-stage PhD students and postdocs who are actively on the academic job market this fall.
URL:https://ccee.engr.it/event/preparing-for-academic-job-interviews/
LOCATION:Fitts-Woolard Hall 3361\, Raleigh\, NC\, United States
CATEGORIES:Appear On Homepage
END:VEVENT
BEGIN:VEVENT
DTSTART;TZID=America/New_York:20240910T100000
DTEND;TZID=America/New_York:20240911T150000
DTSTAMP:20260421T214653
CREATED:20240808T185706Z
LAST-MODIFIED:20240808T185706Z
UID:10000989-1725962400-1726066800@ccee.engr.it
SUMMARY:CCEE Career Connections Job and Internship Fair
DESCRIPTION:The CCEE career fair is a great opportunity to find an internship or a job and network with local employers! \nFor a full list of companies attending\, visit go.ncsu.edu/cceecareerconnections. \nNo registration required.
URL:https://ccee.engr.it/event/ccee-career-connections-job-and-internship-fair-2/
LOCATION:Duke Energy Hall Room 2110C and 2110D in James B. Hunt\, Jr. Library\, 1070 Partners Way\, Raleigh\, NC\, United States
CATEGORIES:Appear On Homepage
END:VEVENT
BEGIN:VEVENT
DTSTART;TZID=America/New_York:20240904T150000
DTEND;TZID=America/New_York:20240904T163000
DTSTAMP:20260421T214653
CREATED:20240808T181538Z
LAST-MODIFIED:20240808T181538Z
UID:10000986-1725462000-1725467400@ccee.engr.it
SUMMARY:Preparing for the CCEE Career Fair
DESCRIPTION:In this workshop hosted by CCEE faculty member Dr. Meagan Kittle Autry\, we’ll cover how to polish your resume for the CCEE Career Connections and how to plan an elevator pitch and talk to employers. Bring a resume draft if you have one\, and bring a friend! Open to all CCEE undergraduate students\, graduate students\, and postdocs.
URL:https://ccee.engr.it/event/preparing-for-the-ccee-career-fair/
LOCATION:Fitts-Woolard Hall 3361\, Raleigh\, NC\, United States
CATEGORIES:Appear On Homepage
END:VEVENT
BEGIN:VEVENT
DTSTART;TZID=America/New_York:20240822T150000
DTEND;TZID=America/New_York:20240822T160000
DTSTAMP:20260421T214653
CREATED:20240726T184732Z
LAST-MODIFIED:20240726T184810Z
UID:10000985-1724338800-1724342400@ccee.engr.it
SUMMARY:CCEE and ISE Ice Cream and Sorbet Social
DESCRIPTION:
URL:https://ccee.engr.it/event/ccee-ise-ice-cream-sorbet-social/
LOCATION:The Oval on Centennial Campus\, Raleigh\, NC\, United States
CATEGORIES:Appear On Homepage
END:VEVENT
BEGIN:VEVENT
DTSTART;TZID=America/New_York:20240503T133000
DTEND;TZID=America/New_York:20240503T150000
DTSTAMP:20260421T214653
CREATED:20240205T035348Z
LAST-MODIFIED:20240205T035348Z
UID:10000982-1714743000-1714748400@ccee.engr.it
SUMMARY:CCEE Spring 2024 Commencement Ceremony
DESCRIPTION:Click here for more information.
URL:https://ccee.engr.it/event/ccee-spring-2024-commencement-ceremony/
LOCATION:NC
END:VEVENT
BEGIN:VEVENT
DTSTART;TZID=America/New_York:20240304T153000
DTEND;TZID=America/New_York:20240304T170000
DTSTAMP:20260421T214653
CREATED:20240205T035239Z
LAST-MODIFIED:20240205T035239Z
UID:10000981-1709566200-1709571600@ccee.engr.it
SUMMARY:Three Minute Thesis Competition
DESCRIPTION:CCEE’s annual 3MT competition is back! All are welcome to attend and cheer on our graduate students as they share their research in an accessible way—in 3 minutes or less. We will also announce our annual departmental graduate student awards.
URL:https://ccee.engr.it/event/three-minute-thesis-competition-2/
LOCATION:Fitts Woolard Hall 2115\, 915 Partners Way\, Raleigh\, 27695\, United States
END:VEVENT
BEGIN:VEVENT
DTSTART;VALUE=DATE:20240227
DTEND;VALUE=DATE:20240229
DTSTAMP:20260421T214653
CREATED:20240205T035102Z
LAST-MODIFIED:20240205T035102Z
UID:10000980-1708992000-1709164799@ccee.engr.it
SUMMARY:CCEE Career Connections Job and Internship Fair
DESCRIPTION:More details to come.
URL:https://ccee.engr.it/event/ccee-career-connections-job-and-internship-fair/
LOCATION:NC
END:VEVENT
BEGIN:VEVENT
DTSTART;TZID=America/New_York:20240221T150000
DTEND;TZID=America/New_York:20240221T160000
DTSTAMP:20260421T214653
CREATED:20240205T035008Z
LAST-MODIFIED:20240205T035008Z
UID:10000979-1708527600-1708531200@ccee.engr.it
SUMMARY:How to Ace the Career Fair Workshop
DESCRIPTION:Need help prepping for the upcoming CCEE Career Connections Career and Internship Fair? Attend “How to Ace the Career Fair” with Dr. Kittle Autry!
URL:https://ccee.engr.it/event/how-to-ace-the-career-fair-workshop-2/
LOCATION:Fitts Woolard Hall 3103\, 915 Partners Way\, Raleigh\, 27695\, United States
END:VEVENT
BEGIN:VEVENT
DTSTART;TZID=America/New_York:20240214T150000
DTEND;TZID=America/New_York:20240214T160000
DTSTAMP:20260421T214654
CREATED:20240203T032025Z
LAST-MODIFIED:20240203T032025Z
UID:10000978-1707922800-1707926400@ccee.engr.it
SUMMARY:Writing Stellar Resumes Workshop
DESCRIPTION:Need help making a resume that shines for the upcoming CCEE Career Connections Career and Internship Fair? Attend “Writing Stellar Resumes” with Dr. Kittle Autry!
URL:https://ccee.engr.it/event/writing-stellar-resumes-workshop/
LOCATION:Fitts-Woolard Hall 3280\, 915 Partners Way\, Raleigh\, 27695\, United States
END:VEVENT
BEGIN:VEVENT
DTSTART;TZID=America/New_York:20240209T133000
DTEND;TZID=America/New_York:20240209T150000
DTSTAMP:20260421T214654
CREATED:20240203T031700Z
LAST-MODIFIED:20240203T031700Z
UID:10000977-1707485400-1707490800@ccee.engr.it
SUMMARY:Shaw Lecture: Elevating the Performance  of the Built Environment through Cyberphysical Systems
DESCRIPTION:
URL:https://ccee.engr.it/event/shaw-lecture-elevating-the-performance-of-the-built-environment-through-cyberphysical-systems/
LOCATION:Duke Energy Hall Room 2110C and 2110D in James B. Hunt\, Jr. Library\, 1070 Partners Way\, Raleigh\, NC\, United States
END:VEVENT
BEGIN:VEVENT
DTSTART;TZID=America/New_York:20231129T140000
DTEND;TZID=America/New_York:20231129T150000
DTSTAMP:20260421T214654
CREATED:20231031T150534Z
LAST-MODIFIED:20231031T150534Z
UID:10000976-1701266400-1701270000@ccee.engr.it
SUMMARY:NC State Graduate Program Virtual Open House
DESCRIPTION:Want to know more about the stellar graduate programs and supportive faculty in CCEE? Join us for a virtual information session. Learn about funding opportunities\, how to apply\, meet program faculty\, and more!\nWhat: Graduate Program Virtual Open House\nWhere: virtual\, via Zoom\n\nMore information and registration here.
URL:https://ccee.engr.it/event/nc-state-graduate-program-virtual-open-house-4/
LOCATION:Virtual\, Raleigh\, NC\, United States
CATEGORIES:Appear On Homepage
END:VEVENT
BEGIN:VEVENT
DTSTART;TZID=America/New_York:20231115T120000
DTEND;TZID=America/New_York:20231115T130000
DTSTAMP:20260421T214654
CREATED:20231031T150412Z
LAST-MODIFIED:20231031T150412Z
UID:10000975-1700049600-1700053200@ccee.engr.it
SUMMARY:NC State Graduate Program Virtual Open House
DESCRIPTION:Want to know more about the stellar graduate programs and supportive faculty in CCEE? Join us for a virtual information session. Learn about funding opportunities\, how to apply\, meet program faculty\, and more!\nWhat: Graduate Program Virtual Open House\nWhere: virtual\, via Zoom\n\nMore information and registration here.
URL:https://ccee.engr.it/event/nc-state-graduate-program-virtual-open-house-3/
LOCATION:Virtual\, Raleigh\, NC\, United States
CATEGORIES:Appear On Homepage
END:VEVENT
BEGIN:VEVENT
DTSTART;TZID=America/New_York:20231110T100000
DTEND;TZID=America/New_York:20231110T110000
DTSTAMP:20260421T214654
CREATED:20231031T150249Z
LAST-MODIFIED:20231031T150307Z
UID:10000974-1699610400-1699614000@ccee.engr.it
SUMMARY:NC State Graduate Program Virtual Open House
DESCRIPTION:Want to know more about the stellar graduate programs and supportive faculty in CCEE? Join us for a virtual information session. Learn about funding opportunities\, how to apply\, meet program faculty\, and more!\nWhat: Graduate Program Virtual Open House\nWhere: virtual\, via Zoom\n\nMore information and registration here.
URL:https://ccee.engr.it/event/nc-state-graduate-program-virtual-open-house-2/
LOCATION:Virtual\, Raleigh\, NC\, United States
CATEGORIES:Appear On Homepage
END:VEVENT
BEGIN:VEVENT
DTSTART;TZID=America/New_York:20231108T130000
DTEND;TZID=America/New_York:20231108T140000
DTSTAMP:20260421T214654
CREATED:20231031T150001Z
LAST-MODIFIED:20231031T150130Z
UID:10000973-1699448400-1699452000@ccee.engr.it
SUMMARY:NC State Graduate Program Virtual Open House
DESCRIPTION:Want to know more about the stellar graduate programs and supportive faculty in CCEE? Join us for a virtual information session. Learn about funding opportunities\, how to apply\, meet program faculty\, and more!\nWhat: Graduate Program Virtual Open House\nWhere: virtual\, via Zoom\n\nMore information and registration here.
URL:https://ccee.engr.it/event/nc-state-graduate-program-virtual-open-house/
LOCATION:Virtual\, Raleigh\, NC\, United States
CATEGORIES:Appear On Homepage
END:VEVENT
BEGIN:VEVENT
DTSTART;TZID=America/New_York:20231027T090000
DTEND;TZID=America/New_York:20231027T110000
DTSTAMP:20260421T214654
CREATED:20230523T185341Z
LAST-MODIFIED:20230524T131940Z
UID:10000963-1698397200-1698404400@ccee.engr.it
SUMMARY:2023 CCEE Hall of Fame Induction Ceremony
DESCRIPTION:Ceremony to be held in the morning at Duke Energy Hall in Hunt Library. More details to come.
URL:https://ccee.engr.it/event/2023-ccee-hall-of-fame-induction-ceremony/
LOCATION:Hunt Library\, Duke Energy Hall\, Raleigh\, NC\, United States
CATEGORIES:Appear On Homepage
END:VEVENT
BEGIN:VEVENT
DTSTART;TZID=America/New_York:20231019T080000
DTEND;TZID=America/New_York:20231019T170000
DTSTAMP:20260421T214654
CREATED:20231019T195911Z
LAST-MODIFIED:20231019T195911Z
UID:10000972-1697702400-1697734800@ccee.engr.it
SUMMARY:Industry Day
DESCRIPTION:
URL:https://ccee.engr.it/event/industry-day/
LOCATION:NC
CATEGORIES:Appear On Homepage
END:VEVENT
BEGIN:VEVENT
DTSTART;TZID=America/New_York:20231017T160000
DTEND;TZID=America/New_York:20231017T170000
DTSTAMP:20260421T214654
CREATED:20230821T200933Z
LAST-MODIFIED:20230821T200933Z
UID:10000969-1697558400-1697562000@ccee.engr.it
SUMMARY:Writing Research Article Introductions Workshop
DESCRIPTION:Join us to learn about how to write research article introductions. This online Zoom workshop is open to all CCEE graduate students and postdocs and all STEPS Center scholars. Click the link to join us via Zoom.
URL:https://ccee.engr.it/event/writing-research-article-introductions-workshop/
LOCATION:Raleigh\, NC\, United States
END:VEVENT
BEGIN:VEVENT
DTSTART;TZID=America/New_York:20231002T150000
DTEND;TZID=America/New_York:20231002T160000
DTSTAMP:20260421T214654
CREATED:20230821T200611Z
LAST-MODIFIED:20230821T200611Z
UID:10000968-1696258800-1696262400@ccee.engr.it
SUMMARY:Writing Literature Reviews Workshop
DESCRIPTION:This workshop explains key concepts for writing a literature review. It is open to all graduate students in CCEE. This workshop counts as a seminar for EWC graduate students.
URL:https://ccee.engr.it/event/writing-literature-reviews-workshop/
LOCATION:Fitts-Woolard Hall 2121\, Raleigh\, NC\, United States
END:VEVENT
BEGIN:VEVENT
DTSTART;VALUE=DATE:20230928
DTEND;VALUE=DATE:20230930
DTSTAMP:20260421T214654
CREATED:20230919T155709Z
LAST-MODIFIED:20230919T155709Z
UID:10000970-1695859200-1696031999@ccee.engr.it
SUMMARY:KIETS Climate Leaders Program Fall Symposium 2023
DESCRIPTION:Theme — Think and Do: Climate Challenges and Solutions \nSeptember 28-29\, 2023\nNorth Carolina State University\, Raleigh\, NC\nHunt Library on Centennial Campus \n  \nThe 2023 symposium will highlight ways we can all work together to understand climate challenges and discover and implement climate mitigation and adaptation solutions. Join us for engaging speakers\, panel discussions\, poster presentations\, showcase of innovations and networking opportunities. \n  \nMore information and agenda.
URL:https://ccee.engr.it/event/kiets-climate-leaders-program-fall-symposium-2023/
LOCATION:Hunt Library\, 1070 Partners Way\, Raleigh\, NC\, 27695\, United States
CATEGORIES:Appear On Homepage
GEO:35.7692923;-78.6766382
X-APPLE-STRUCTURED-LOCATION;VALUE=URI;X-ADDRESS=Hunt Library 1070 Partners Way Raleigh NC 27695 United States;X-APPLE-RADIUS=500;X-TITLE=1070 Partners Way:geo:-78.6766382,35.7692923
END:VEVENT
BEGIN:VEVENT
DTSTART;TZID=America/New_York:20230925T150000
DTEND;TZID=America/New_York:20230925T170000
DTSTAMP:20260421T214654
CREATED:20230316T144639Z
LAST-MODIFIED:20230316T144737Z
UID:10000959-1695654000-1695661200@ccee.engr.it
SUMMARY:22nd Annual Paul Zia Distinguished Lecture
DESCRIPTION:2023 Zia Lecture: Allegiant Stadium in Las Vegas\n\n\n\n\n\n\n\n\n\n\n\nThe 22nd Annual Paul Zia Distinguished Lecture on the Allegiant Stadium in Las Vegas will be presented on Monday\, Sept. 25\, 2023 at 3 p.m. at the Stewart Theatre located in the Talley Student Union on NC State’s campus. An online interactive livestream will also be available. This annual lecture honors Professor Emeritus Dr. Paul Zia\, former professor and department head for NC State’s Department of Civil\, Construction\, and Environmental Engineering and a structural engineer who is eminent in research\, professional society leadership and practice. \nPresenters include Ellen Spangler\, Senior Project Manager at Mortenson Construction\, and Frank Freudenberger\, PE\, SE\, Associate Principal – Structural of Arup. The speakers will present on various design and construction aspects of the 1.75 million-square-foot\, 65\,000-seat domed Allegiant Stadium — home to the NFL’s Las Vegas Raiders. The stadium features one of the largest cable net roofing structures in North America — the first to be constructed in the U.S. \nRegistration will open in mid-August. For more details\, visit the lecture website.
URL:https://ccee.engr.it/event/22nd-annual-paul-zia-distinguished-lecture/
LOCATION:Stewart Theatre\, Talley Student Union\, NC State\, 2610 Cates Avenue\, Raleigh
CATEGORIES:Appear On Homepage,Seminars
END:VEVENT
BEGIN:VEVENT
DTSTART;TZID=America/New_York:20230925T124500
DTEND;TZID=America/New_York:20230925T134500
DTSTAMP:20260421T214654
CREATED:20230921T191753Z
LAST-MODIFIED:20230921T191753Z
UID:10000971-1695645900-1695649500@ccee.engr.it
SUMMARY:EWC Seminar by Meredith Martinez (Jacobs) - What's in Your Toolkit?
DESCRIPTION:Environmental\, Water Resources\, and Coastal Engineering Seminar Series \nFitts-Woolard Hall 3301 \nWhat’s in Your Toolkit? \nAbstract: Water reuse is a necessary part of creating sustainable water systems that will provide water for generations to come. Groundwater plays a fundamental role in the One Water initiative\, and maintaining resilient aquifer systems is a crucial factor in managing water systems in light of the various driving forces for water reuse (e.g.\,  water scarcity\, population growth\, climate change\, etc.). This presentation focuses on two water reuse projects and the experimental and modeling methods related to those projects. The first project\, the Sustainable Water Initiative for Tomorrow (SWIFT) project\, is an aquifer long-term replenishment (ALTR) project that uses continuous recharge into the multi-layered confined aquifer system to restore the potentiometric surface over space and time and increase storage in the system. The SWIFT Research Center (SWIFT-RC) is a 1 million gallon per day (MGD) demonstration facility in Suffolk\, Virginia that recharges the PAS through a multi-screen well. Addressing research questions about the impact of continuous\, sustained recharge on aquifer systems is crucial to the long-term sustainability of an ALTR project. Quantifying how flow moves through the multi-layered system is necessary to communicate travel times and water quality impacts on the aquifer system. This work uses injectate as an intrinsic tracer\, an in-situ flowmeter\, and a bromide tracer test to evaluate how flow is distributed through the eleven screens in the recharge well and to assess how flow distribution changes over time. Typically\, flow distribution in multi-screen wells is estimated only once over the length of a project and assumed to remain constant for modeling purposes; by measuring flow distribution using multiple methods over the course of the project\, this work shows that flow distribution is not constant. In future ALTR projects\, developing a consistent and robust monitoring plan to use injectate as an indicator of movement through the aquifer system\, paired with other methods to monitor changes in flow distribution\, will be a critical part of effectively evaluating how flow moves through the groundwater system. The second project\, Aquifer Recharge for Beneficial Reuse in Northeast Florida\, is a OneWater concept where Jacobs proposes using the natural system to recharge the Floridan Aquifer System (FAS) in response to Senate Bill 64\, which requires utilities to form plans to eliminate non-beneficial to surface water discharge. The conceptual modeling related to this project builds on an existing groundwater model of northeast Florida and southwest Georgia to evaluate the feasibility of a large-scale recharge to an area in the Lake Region north-central Florida. Potential recharge benefits are shown to be wide-ranging. \nBiography: Dr. Meredith Martinez is a civil engineer by training (BSCE NCSU\, 2017)\, focusing primarily on groundwater and hydrogeology. Her doctoral degree work in civil engineering (Virginia Tech\, 2022) focused on groundwater dynamics and transport modeling through complex\, multi-layered aquifer systems during managed aquifer recharge via injection wells. She has experience using experimental methods such as intrinsic tracers\, in-situ flowmeters\, and artificial tracers. Her work with Jacobs has expanded into computational modeling and creating solutions for clients using indirect potable reuse technologies. She is excited about the growing area of water reuse\, managed aquifer recharge\, and the use of innovative technologies to make our water resources sustainable.
URL:https://ccee.engr.it/event/ewc-seminar-by-meredith-martinez-jacobs-whats-in-your-toolkit/
LOCATION:Fitts-Woolard Hall 3301\, Raleigh\, NC\, United States
CATEGORIES:Appear On Homepage,Seminars
END:VEVENT
END:VCALENDAR