BEGIN:VCALENDAR
VERSION:2.0
PRODID:-//Old CCEE - ECPv6.15.20//NONSGML v1.0//EN
CALSCALE:GREGORIAN
METHOD:PUBLISH
X-WR-CALNAME:Old CCEE
X-ORIGINAL-URL:https://ccee.engr.it
X-WR-CALDESC:Events for Old CCEE
REFRESH-INTERVAL;VALUE=DURATION:PT1H
X-Robots-Tag:noindex
X-PUBLISHED-TTL:PT1H
BEGIN:VTIMEZONE
TZID:America/New_York
BEGIN:DAYLIGHT
TZOFFSETFROM:-0500
TZOFFSETTO:-0400
TZNAME:EDT
DTSTART:20240310T070000
END:DAYLIGHT
BEGIN:STANDARD
TZOFFSETFROM:-0400
TZOFFSETTO:-0500
TZNAME:EST
DTSTART:20241103T060000
END:STANDARD
BEGIN:DAYLIGHT
TZOFFSETFROM:-0500
TZOFFSETTO:-0400
TZNAME:EDT
DTSTART:20250309T070000
END:DAYLIGHT
BEGIN:STANDARD
TZOFFSETFROM:-0400
TZOFFSETTO:-0500
TZNAME:EST
DTSTART:20251102T060000
END:STANDARD
BEGIN:DAYLIGHT
TZOFFSETFROM:-0500
TZOFFSETTO:-0400
TZNAME:EDT
DTSTART:20260308T070000
END:DAYLIGHT
BEGIN:STANDARD
TZOFFSETFROM:-0400
TZOFFSETTO:-0500
TZNAME:EST
DTSTART:20261101T060000
END:STANDARD
END:VTIMEZONE
BEGIN:VEVENT
DTSTART;TZID=America/New_York:20251018T090000
DTEND;TZID=America/New_York:20251018T140000
DTSTAMP:20260424T074645
CREATED:20251014T181441Z
LAST-MODIFIED:20251118T205655Z
UID:10001011-1760778000-1760796000@ccee.engr.it
SUMMARY:University Open House
DESCRIPTION:Join #NCStateCCEE on Saturday\, October 18 during University Open House! \nExplore our exciting field by meeting with industry leaders and engaging with student organizations like Earthquake Engineering Research Institute and American Society of Civil Engineers. Chat with faculty and students\, tour our state-of-the-art labs and more! \nCollege of Engineering Open House details.
URL:https://ccee.engr.it/event/university-open-house-2/
LOCATION:Fitts-Woolard Hall\, 915 Partners Way\, Raleigh\, NC\, 24606\, United States
CATEGORIES:Appear On Homepage
END:VEVENT
END:VCALENDAR