BEGIN:VCALENDAR
VERSION:2.0
PRODID:-//Old CCEE - ECPv6.15.20//NONSGML v1.0//EN
CALSCALE:GREGORIAN
METHOD:PUBLISH
X-WR-CALNAME:Old CCEE
X-ORIGINAL-URL:https://ccee.engr.it
X-WR-CALDESC:Events for Old CCEE
REFRESH-INTERVAL;VALUE=DURATION:PT1H
X-Robots-Tag:noindex
X-PUBLISHED-TTL:PT1H
BEGIN:VTIMEZONE
TZID:America/New_York
BEGIN:DAYLIGHT
TZOFFSETFROM:-0500
TZOFFSETTO:-0400
TZNAME:EDT
DTSTART:20150308T070000
END:DAYLIGHT
BEGIN:STANDARD
TZOFFSETFROM:-0400
TZOFFSETTO:-0500
TZNAME:EST
DTSTART:20151101T060000
END:STANDARD
BEGIN:DAYLIGHT
TZOFFSETFROM:-0500
TZOFFSETTO:-0400
TZNAME:EDT
DTSTART:20160313T070000
END:DAYLIGHT
BEGIN:STANDARD
TZOFFSETFROM:-0400
TZOFFSETTO:-0500
TZNAME:EST
DTSTART:20161106T060000
END:STANDARD
BEGIN:DAYLIGHT
TZOFFSETFROM:-0500
TZOFFSETTO:-0400
TZNAME:EDT
DTSTART:20170312T070000
END:DAYLIGHT
BEGIN:STANDARD
TZOFFSETFROM:-0400
TZOFFSETTO:-0500
TZNAME:EST
DTSTART:20171105T060000
END:STANDARD
BEGIN:DAYLIGHT
TZOFFSETFROM:-0500
TZOFFSETTO:-0400
TZNAME:EDT
DTSTART:20180311T070000
END:DAYLIGHT
BEGIN:STANDARD
TZOFFSETFROM:-0400
TZOFFSETTO:-0500
TZNAME:EST
DTSTART:20181104T060000
END:STANDARD
BEGIN:DAYLIGHT
TZOFFSETFROM:-0500
TZOFFSETTO:-0400
TZNAME:EDT
DTSTART:20190310T070000
END:DAYLIGHT
BEGIN:STANDARD
TZOFFSETFROM:-0400
TZOFFSETTO:-0500
TZNAME:EST
DTSTART:20191103T060000
END:STANDARD
END:VTIMEZONE
BEGIN:VEVENT
DTSTART;TZID=America/New_York:20180223T134500
DTEND;TZID=America/New_York:20180223T144500
DTSTAMP:20260421T172330
CREATED:20180119T162532Z
LAST-MODIFIED:20180119T162837Z
UID:10000688-1519393500-1519397100@ccee.engr.it
SUMMARY:Joint CCEE & MEAS Seminar: Christophe Darnault\, Clemson University
DESCRIPTION:Flow and Transport in Porous Media: Applications in Environment and Energy \n \nDR. CHRISTOPHE DARNAULT \nAssistant Professor\, Department of Environmental\nEngineering and Earth Sciences\, Clemson University\nAssociate Editor\, Journal of Hydrology \nABSTRACT\nFlow and transport in porous media with applications in environment and energy are complex phenomena that encompass a\nwide range of disciplines\, including physics\, chemistry\, biology\, earth sciences\, hydrology\, soil and water engineering\, and \nreservoir engineering. Understanding flow and contaminants transport processes in porous media is critical for the mitigation\nof their impacts\, the development of effective remediation procedures\, the exploitation and management of subsurface\nresources — aquifer systems and petroleum reservoirs\, and the protection of the environment and public health. The release of\nemerging contaminants\, such as engineered nanomaterials\, into the environment; the prevalence of microbial pathogens due\nto wildlife and agricultural activities in rural and agricultural watersheds; and the discharge of radionuclide wastes during\nstorage\, handling\, and disposal of nuclear materials in groundwater systems are inevitable. To study the fate and transport of\nthese contaminants in the vadose zone\, we have investigated their mobility under different hydrodynamic and biogeochemical\nconditions found in the natural environment. We have demonstrated the critical role that preferential flow (macropore flow\nand fingered flow); transient in water content and velocity; transient in solution chemistry\, gas-water interfaces; solid\ninterfaces; system heterogeneities; plants and microbes; and their interactions and feedback have in the flow\, transport\, and\nretention of contaminants in the vadose zone. Mobilization of crude oil from geologic formations is essential for the\nexploitation of petroleum reservoirs and the oil recovery process. We have explored the ability of nanoparticles to improve the\nefficiency of the chemical-enhanced oil recovery process (EOR) that uses surfactant flooding by examining interfacial and\nrheological properties of multiphase systems and sandstone-crude oil-nanofluid systems. To elucidate the individual\ncontribution of the mechanisms and natural parameters affecting the flow phenomena\, transport\, and retention of these\ncontaminants\, as well as to quantify and visualize them\, we have developed monitoring methods and tools using physical\,\nchemical\, microbiological\, molecular\, and non-intrusive technologies. The results of our research will contribute to the\ndevelopment and validation of flow\, fate\, and transport models of contaminants from pore scale to watershed scale for\nmanagement and protection of groundwater resources\, petroleum reservoirs\, public health\, ecosystem sustainability\, risk\nassessment\, and life-cycle analysis. \nBIOGRAPHY\nChristophe Darnault is Assistant Professor at the Department of Environmental Engineering and Earth Sciences at Clemson\nUniversity. He serves as Associate Editor for Frontiers in Environmental Science – Soil Processes\, and served as Associate Editor\nfor the Journal of Hydrology (Elsevier) (2011-2017). He is one of the Clemson’s representatives for the Consortium of\nUniversities for the Advancement of Hydrologic Science\, Inc. He has research and teaching experience at Rensselaer Polytechnic\nInstitute and University of Illinois at Chicago. He was also a visiting scholar at Yale University. He received his Ph.D. in\nEnvironmental and Water Resources Engineering from Cornell University (2000)\, and his combined M.S. &amp; B.S. degree\n(Diplôme d’Ingénieur) in Agricultural\, Environmental\, and Biological Engineering from the Institut Supérieur d’Agriculture\,\nLille\, France (1995). His experience has also encompassed working as water resources group leader at Environmental\nEngineering and Technology\, Inc. and as project engineer at Malcolm Pirnie\, Inc. (now the Water Division of ARCADIS). Dr.\nDarnault’s teaching and research interests are in the fields of biological and environmental engineering\, agricultural engineering\,\nhydrological sciences\, and water resources engineering. Particular contributions include the fate and transport of pathogenic\nmicroorganisms\, nanomaterials\, non-aqueous phase liquids\, and radionuclides in soils under natural conditions; vadose zone\nprocesses; and the development and application of novel methods– including light transmission\, fluorescence\, microbiological\,\nand molecular– for the monitoring of biological/environmental systems and processes.
URL:https://ccee.engr.it/event/joint-ccee-meas-seminar-christophe-darnault-clemson-university/
LOCATION:Mann 323\, 2501 Stinson Drive\, Raleigh\, NC\, 27675\, United States
CATEGORIES:Appear On Homepage,Seminars
GEO:35.7852401;-78.6692049
X-APPLE-STRUCTURED-LOCATION;VALUE=URI;X-ADDRESS=Mann 323 2501 Stinson Drive Raleigh NC 27675 United States;X-APPLE-RADIUS=500;X-TITLE=2501 Stinson Drive:geo:-78.6692049,35.7852401
END:VEVENT
BEGIN:VEVENT
DTSTART;TZID=America/New_York:20180215T133000
DTEND;TZID=America/New_York:20180215T144500
DTSTAMP:20260421T172330
CREATED:20180212T203802Z
LAST-MODIFIED:20180212T204001Z
UID:10000690-1518701400-1518705900@ccee.engr.it
SUMMARY:Construction Technology Session: The Era of Real-Time Connectivity and Connection     Afternoon Session
DESCRIPTION:
URL:https://ccee.engr.it/event/construction-technology-session-the-era-of-real-time-connectivity-and-connection-afternoon-session/
LOCATION:Mann 304\, Mann Hall\, Raleigh\, NC\, United States
CATEGORIES:Appear On Homepage
GEO:35.7852401;-78.6692049
X-APPLE-STRUCTURED-LOCATION;VALUE=URI;X-ADDRESS=Mann 304 Mann Hall Raleigh NC United States;X-APPLE-RADIUS=500;X-TITLE=Mann Hall:geo:-78.6692049,35.7852401
END:VEVENT
BEGIN:VEVENT
DTSTART;TZID=America/New_York:20180215T101500
DTEND;TZID=America/New_York:20180215T114500
DTSTAMP:20260421T172330
CREATED:20180212T203127Z
LAST-MODIFIED:20180212T203925Z
UID:10000689-1518689700-1518695100@ccee.engr.it
SUMMARY:Construction Technology Forum: The Era of Connection          Morning Session
DESCRIPTION:
URL:https://ccee.engr.it/event/construction-technology-forum-morning-session/
LOCATION:Mann 206\, 2501 Stinson Drive\, Raleigh\, NC\, 27695\, United States
CATEGORIES:Appear On Homepage
GEO:35.785466;-78.6688847
X-APPLE-STRUCTURED-LOCATION;VALUE=URI;X-ADDRESS=Mann 206 2501 Stinson Drive Raleigh NC 27695 United States;X-APPLE-RADIUS=500;X-TITLE=2501 Stinson Drive:geo:-78.6688847,35.785466
END:VEVENT
BEGIN:VEVENT
DTSTART;TZID=America/New_York:20171019T125000
DTEND;TZID=America/New_York:20171019T134000
DTSTAMP:20260421T172330
CREATED:20171012T143408Z
LAST-MODIFIED:20171012T143408Z
UID:10000532-1508417400-1508420400@ccee.engr.it
SUMMARY:AWMA Seminar 10/19 Exposure Characterization in Hong Kong: Our Vision and Practice
DESCRIPTION:Wenwei CHE\, Ph.D. Research Assistant Professor Deparptment of Civil and Environmental Engineering\, The Hong Kong University of Science and Technology
URL:https://ccee.engr.it/event/awma-seminar-1019-exposure-characterization-in-hong-kong-our-vision-and-practice/
CATEGORIES:Appear On Homepage
END:VEVENT
BEGIN:VEVENT
DTSTART;TZID=America/New_York:20170428T125000
DTEND;TZID=America/New_York:20170428T134000
DTSTAMP:20260421T172330
CREATED:20170426T210008Z
LAST-MODIFIED:20170428T164208Z
UID:10000624-1493383800-1493386800@ccee.engr.it
SUMMARY:Denying Denialism: Uncovering the Methods and Institutions of Climate Change Denial
DESCRIPTION:Our EWC seminar on this Friday\, Apr 28\, will feature our Dr. Chris Frey\, who will discuss “Denying Denialism: Uncovering the Methods and Institutions of Climate Change Denial.”   \nThere is a room change for this seminar.  Please join us in Daniels 327 from 12:50-1:40pm. \nThis is a joint seminar with the Air & Waste Management Association – NC State University Chapter (A&WMA NCSU).
URL:https://ccee.engr.it/event/denying-denialism-uncovering-the-methods-and-institutions-of-climate-change-denial/
LOCATION:Daniels Hall\, Room 327\, Raleigh\, United States
CATEGORIES:Appear On Homepage
GEO:35.7795897;-78.6381787
END:VEVENT
BEGIN:VEVENT
DTSTART;TZID=America/New_York:20161215T133000
DTEND;TZID=America/New_York:20161215T150000
DTSTAMP:20260421T172330
CREATED:20161209T135337Z
LAST-MODIFIED:20161209T135356Z
UID:10000617-1481808600-1481814000@ccee.engr.it
SUMMARY:CCEE Graduation
DESCRIPTION:CCEE Fall 2016 Graduation ceremony will be held at the McKimmon Center. Our graduation speaker is Ms. Emilee Blount\, Director Engineering\, Technology and Geospatial Services  for the US Forest Service in Washington DC.
URL:https://ccee.engr.it/event/ccee-graduation/
LOCATION:McKimmon Center\, 1101 Gorman St\, Raleigh\, NC\, 27606\, United States
CATEGORIES:Appear On Homepage,Networking
GEO:35.7827103;-78.6852193
X-APPLE-STRUCTURED-LOCATION;VALUE=URI;X-ADDRESS=McKimmon Center 1101 Gorman St Raleigh NC 27606 United States;X-APPLE-RADIUS=500;X-TITLE=1101 Gorman St:geo:-78.6852193,35.7827103
END:VEVENT
BEGIN:VEVENT
DTSTART;TZID=America/New_York:20160916T114500
DTEND;TZID=America/New_York:20160916T123500
DTSTAMP:20260421T172330
CREATED:20160914T235936Z
LAST-MODIFIED:20160914T235936Z
UID:10000588-1474026300-1474029300@ccee.engr.it
SUMMARY:EWC Seminar : Jon Hathaway
DESCRIPTION:Our EWC seminar on this Friday\, Sep 16\, will feature Dr. Jon Hathaway\, with a presentation about sustainable development and water management.  A title and abstract are included at the end of this message.  Please join us in Mann 304 from 11:45am-12:35pm. \nThe schedule for future seminars is available here:\nhttp://go.ncsu.edu/ewc-seminar-schedule \nTitle: Sustainable Urban Water and the Rise of Green Infrastructure \nAbstract: Global population in urban areas is burgeoning\, and sustainable development and water management are critical to ensuring ecological and human health. As healthy waterways are increasingly valued\, and the degradation of these waterways by urban stormwater runoff is better understood\, major efforts are underway to restore watershed function across the United States\, from the Chesapeake Bay to Lake Tahoe; from the Gulf of Mexico to the Great Lakes. Critical to these efforts is an understanding of how runoff and pollutants travel through the urban environment\, and how the effects of urban runoff can be mitigated by green infrastructure. This presentation will give an overview of various research projects being performed at the University of Tennessee to better understand how to sustainably manage stormwater\, from small scale observations of green infrastructure function\, to watershed scale investigations that identify hotspots of impervious connectivity. \nBio: Dr. Hathaway received his PhD from North Carolina State University in 2010\, where he studied the fate\, transport\, and removal of indicator bacteria in urban stormwater runoff. After a brief research fellowship at Monash University in Melbourne\, Australia\, and nearly two and half years at one of the nation’s leading ecological design and consulting firms\, he joined the Department of Civil and Environmental Engineering at the University of Tennessee. Dr. Hathaway’s research team focuses on sustainable urban water\, the interaction of watershed processes\, urban sustainability\, and natural systems. His research has been supported by the US Department of Agriculture\, National Science Foundation\, and US Geological Survey.  Dr. Hathaway is a 2016 recipient of the National Science Foundation CAREER award.
URL:https://ccee.engr.it/event/ewc-seminar-jon-hathaway/
LOCATION:Mann Hall\, 2501 Katharine Stinson Dr.\, Raleigh\, NC\, 27695\, United States
CATEGORIES:Appear On Homepage,Seminars
GEO:35.784799;-78.666752
X-APPLE-STRUCTURED-LOCATION;VALUE=URI;X-ADDRESS=Mann Hall 2501 Katharine Stinson Dr. Raleigh NC 27695 United States;X-APPLE-RADIUS=500;X-TITLE=2501 Katharine Stinson Dr.:geo:-78.666752,35.784799
END:VEVENT
BEGIN:VEVENT
DTSTART;TZID=America/New_York:20160909T114500
DTEND;TZID=America/New_York:20160909T123500
DTSTAMP:20260421T172330
CREATED:20160906T235901Z
LAST-MODIFIED:20160906T235901Z
UID:10000585-1473421500-1473424500@ccee.engr.it
SUMMARY:EWC Seminar : Mort Barlaz
DESCRIPTION:Our EWC seminar on this Friday\, Sep 9\, will feature our Dr. Mort Barlaz\, with a presentation about time management.  A title and abstract are included at the end of this message.  Please join us in Mann 304 from 11:45am-12:35pm. \nThe schedule for future seminars is available here:\nhttp://go.ncsu.edu/ewc-seminar-schedule \nTitle: Time Management: How Do Busy People Manage? \nAbstract: There are only 24 hours in a day which means that time is a finite and valuable resource.  The demands on time are likely to increase as careers and personal lives develop.  The objective of this presentation is to provide some tips on how to manage time and maximize efficiency and productivity.
URL:https://ccee.engr.it/event/ewc-seminar-mort-barlaz/
LOCATION:Mann Hall\, 2501 Katharine Stinson Dr.\, Raleigh\, NC\, 27695\, United States
CATEGORIES:Appear On Homepage,Seminars
GEO:35.784799;-78.666752
X-APPLE-STRUCTURED-LOCATION;VALUE=URI;X-ADDRESS=Mann Hall 2501 Katharine Stinson Dr. Raleigh NC 27695 United States;X-APPLE-RADIUS=500;X-TITLE=2501 Katharine Stinson Dr.:geo:-78.666752,35.784799
END:VEVENT
END:VCALENDAR