BEGIN:VCALENDAR
VERSION:2.0
PRODID:-//Old CCEE - ECPv6.15.20//NONSGML v1.0//EN
CALSCALE:GREGORIAN
METHOD:PUBLISH
X-ORIGINAL-URL:https://ccee.engr.it
X-WR-CALDESC:Events for Old CCEE
REFRESH-INTERVAL;VALUE=DURATION:PT1H
X-Robots-Tag:noindex
X-PUBLISHED-TTL:PT1H
BEGIN:VTIMEZONE
TZID:America/New_York
BEGIN:DAYLIGHT
TZOFFSETFROM:-0500
TZOFFSETTO:-0400
TZNAME:EDT
DTSTART:20240310T070000
END:DAYLIGHT
BEGIN:STANDARD
TZOFFSETFROM:-0400
TZOFFSETTO:-0500
TZNAME:EST
DTSTART:20241103T060000
END:STANDARD
BEGIN:DAYLIGHT
TZOFFSETFROM:-0500
TZOFFSETTO:-0400
TZNAME:EDT
DTSTART:20250309T070000
END:DAYLIGHT
BEGIN:STANDARD
TZOFFSETFROM:-0400
TZOFFSETTO:-0500
TZNAME:EST
DTSTART:20251102T060000
END:STANDARD
BEGIN:DAYLIGHT
TZOFFSETFROM:-0500
TZOFFSETTO:-0400
TZNAME:EDT
DTSTART:20260308T070000
END:DAYLIGHT
BEGIN:STANDARD
TZOFFSETFROM:-0400
TZOFFSETTO:-0500
TZNAME:EST
DTSTART:20261101T060000
END:STANDARD
BEGIN:DAYLIGHT
TZOFFSETFROM:-0500
TZOFFSETTO:-0400
TZNAME:EDT
DTSTART:20270314T070000
END:DAYLIGHT
BEGIN:STANDARD
TZOFFSETFROM:-0400
TZOFFSETTO:-0500
TZNAME:EST
DTSTART:20271107T060000
END:STANDARD
END:VTIMEZONE
BEGIN:VEVENT
DTSTART;TZID=America/New_York:20260328T090000
DTEND;TZID=America/New_York:20260328T140000
DTSTAMP:20260421T050206
CREATED:20251118T204727Z
LAST-MODIFIED:20260130T210848Z
UID:10001012-1774688400-1774706400@ccee.engr.it
SUMMARY:Spring 2026 Engineering Open House
DESCRIPTION:Join #NCStateCCEE on Saturday\, March 28 during Engineering Open House! Explore our exciting field by meeting with industry leaders and engaging with student organizations like Earthquake Engineering Research Institute and American Society of Civil Engineers. Chat with faculty and students\, tour our state-of-the-art labs and more! \nDate: Saturday\, March 28\, 2026 \nTime: 9 a.m. – 2 p.m. \nEngineering Open House details
URL:https://ccee.engr.it/event/spring-2026-engineering-open-house/
LOCATION:Centennial Campus
CATEGORIES:Appear On Homepage
ATTACH;FMTTYPE=image/jpeg:https://ccee.engr.it/wp-content/uploads/2025/11/CCEE-Open-House.jpg
END:VEVENT
BEGIN:VEVENT
DTSTART;TZID=America/New_York:20250422T090000
DTEND;TZID=America/New_York:20250422T160000
DTSTAMP:20260421T050206
CREATED:20250122T202127Z
LAST-MODIFIED:20250122T202127Z
UID:10000995-1745312400-1745337600@ccee.engr.it
SUMMARY:First Year Engineering Design Day
DESCRIPTION:First-Year Engineering Design Day (FEDD) is an end-of-year opportunity for first-year engineering student teams to showcase their design projects and compete for awards. The projects are completed as part of the E 101 – Introduction to Engineering and Problem Solving course and allow students to put core design concepts into practice during their first year while learning how to work successfully in a team. \nMorning Session: 9:15 a.m. – 12:00 p.m.\nAwards will be presented from 11:30 a.m. until 12:00 p.m. \nAfternoon Session: 1:15 p.m. – 4:00 p.m.\nAwards will be presented from 3:30 p.m. until 4:00 p.m.
URL:https://ccee.engr.it/event/first-year-engineering-design-day/
LOCATION:McKimmon Center\, 1101 Gorman St\, Raleigh\, NC\, 27606\, United States
GEO:35.7827103;-78.6852193
X-APPLE-STRUCTURED-LOCATION;VALUE=URI;X-ADDRESS=McKimmon Center 1101 Gorman St Raleigh NC 27606 United States;X-APPLE-RADIUS=500;X-TITLE=1101 Gorman St:geo:-78.6852193,35.7827103
END:VEVENT
BEGIN:VEVENT
DTSTART;VALUE=DATE:20250326
DTEND;VALUE=DATE:20250327
DTSTAMP:20260421T050206
CREATED:20250210T212916Z
LAST-MODIFIED:20250210T212916Z
UID:10000999-1742947200-1743033599@ccee.engr.it
SUMMARY:Day of Giving
DESCRIPTION:#GivingPack is about the power of the Wolfpack.\nNC State Day of Giving is inspired by your passion and fueled by your commitment. We couldn’t do what we do without you. Each year\, you fuel our success and help us do more for the university\, the community and the state — and far beyond — because you show up\, show us what you believe in and show the world the true strength of the Pack.
URL:https://ccee.engr.it/event/day-of-giving-2/
CATEGORIES:Appear On Homepage
END:VEVENT
BEGIN:VEVENT
DTSTART;TZID=America/New_York:20250322T090000
DTEND;TZID=America/New_York:20250322T150000
DTSTAMP:20260421T050206
CREATED:20250310T200659Z
LAST-MODIFIED:20250310T200659Z
UID:10001000-1742634000-1742655600@ccee.engr.it
SUMMARY:College of Engineering Open House
DESCRIPTION:Join us at the Civil\, Construction\, and Environmental Engineering (CCEE) Department during NC State’s College of Engineering Open House! \nExplore our exciting field by meeting with industry leaders and engaging with student organizations like Earthquake Engineering Research Institute and American Society of Civil Engineers. Witness cutting-edge technology in action with live demonstrations of our driving simulator and flume. Take a guided tour of our state-of-the-art research laboratories to see firsthand how we are shaping the future of infrastructure\, sustainability\, and transportation. Don’t miss this opportunity to connect\, learn\, and experience the world of CCEE! \nPlus\, the first 100 students to stop by our Welcome table will receive a cool swag bag with a CCEE t-shirt! \nStudents work in the Fincher Lab in Fitts-Woolard Hall. NC State University’s Department of Civil\, Construction\, and Environmental Engineering offers undergraduate degrees in civil engineering\, construction engineering\, and environmental engineering.
URL:https://ccee.engr.it/event/college-of-engineering-open-house/
LOCATION:Fitts-Woolard Hall\, 915 Partners Way\, Raleigh\, NC\, 24606\, United States
CATEGORIES:Appear On Homepage
END:VEVENT
END:VCALENDAR