BEGIN:VCALENDAR
VERSION:2.0
PRODID:-//Old CCEE - ECPv6.15.20//NONSGML v1.0//EN
CALSCALE:GREGORIAN
METHOD:PUBLISH
X-ORIGINAL-URL:https://ccee.engr.it
X-WR-CALDESC:Events for Old CCEE
REFRESH-INTERVAL;VALUE=DURATION:PT1H
X-Robots-Tag:noindex
X-PUBLISHED-TTL:PT1H
BEGIN:VTIMEZONE
TZID:America/New_York
BEGIN:DAYLIGHT
TZOFFSETFROM:-0500
TZOFFSETTO:-0400
TZNAME:EDT
DTSTART:20170312T070000
END:DAYLIGHT
BEGIN:STANDARD
TZOFFSETFROM:-0400
TZOFFSETTO:-0500
TZNAME:EST
DTSTART:20171105T060000
END:STANDARD
BEGIN:DAYLIGHT
TZOFFSETFROM:-0500
TZOFFSETTO:-0400
TZNAME:EDT
DTSTART:20180311T070000
END:DAYLIGHT
BEGIN:STANDARD
TZOFFSETFROM:-0400
TZOFFSETTO:-0500
TZNAME:EST
DTSTART:20181104T060000
END:STANDARD
BEGIN:DAYLIGHT
TZOFFSETFROM:-0500
TZOFFSETTO:-0400
TZNAME:EDT
DTSTART:20190310T070000
END:DAYLIGHT
BEGIN:STANDARD
TZOFFSETFROM:-0400
TZOFFSETTO:-0500
TZNAME:EST
DTSTART:20191103T060000
END:STANDARD
END:VTIMEZONE
BEGIN:VEVENT
DTSTART;TZID=America/New_York:20180223T134500
DTEND;TZID=America/New_York:20180223T144500
DTSTAMP:20260425T074216
CREATED:20180119T162532Z
LAST-MODIFIED:20180119T162837Z
UID:10000688-1519393500-1519397100@ccee.engr.it
SUMMARY:Joint CCEE & MEAS Seminar: Christophe Darnault\, Clemson University
DESCRIPTION:Flow and Transport in Porous Media: Applications in Environment and Energy \n \nDR. CHRISTOPHE DARNAULT \nAssistant Professor\, Department of Environmental\nEngineering and Earth Sciences\, Clemson University\nAssociate Editor\, Journal of Hydrology \nABSTRACT\nFlow and transport in porous media with applications in environment and energy are complex phenomena that encompass a\nwide range of disciplines\, including physics\, chemistry\, biology\, earth sciences\, hydrology\, soil and water engineering\, and \nreservoir engineering. Understanding flow and contaminants transport processes in porous media is critical for the mitigation\nof their impacts\, the development of effective remediation procedures\, the exploitation and management of subsurface\nresources — aquifer systems and petroleum reservoirs\, and the protection of the environment and public health. The release of\nemerging contaminants\, such as engineered nanomaterials\, into the environment; the prevalence of microbial pathogens due\nto wildlife and agricultural activities in rural and agricultural watersheds; and the discharge of radionuclide wastes during\nstorage\, handling\, and disposal of nuclear materials in groundwater systems are inevitable. To study the fate and transport of\nthese contaminants in the vadose zone\, we have investigated their mobility under different hydrodynamic and biogeochemical\nconditions found in the natural environment. We have demonstrated the critical role that preferential flow (macropore flow\nand fingered flow); transient in water content and velocity; transient in solution chemistry\, gas-water interfaces; solid\ninterfaces; system heterogeneities; plants and microbes; and their interactions and feedback have in the flow\, transport\, and\nretention of contaminants in the vadose zone. Mobilization of crude oil from geologic formations is essential for the\nexploitation of petroleum reservoirs and the oil recovery process. We have explored the ability of nanoparticles to improve the\nefficiency of the chemical-enhanced oil recovery process (EOR) that uses surfactant flooding by examining interfacial and\nrheological properties of multiphase systems and sandstone-crude oil-nanofluid systems. To elucidate the individual\ncontribution of the mechanisms and natural parameters affecting the flow phenomena\, transport\, and retention of these\ncontaminants\, as well as to quantify and visualize them\, we have developed monitoring methods and tools using physical\,\nchemical\, microbiological\, molecular\, and non-intrusive technologies. The results of our research will contribute to the\ndevelopment and validation of flow\, fate\, and transport models of contaminants from pore scale to watershed scale for\nmanagement and protection of groundwater resources\, petroleum reservoirs\, public health\, ecosystem sustainability\, risk\nassessment\, and life-cycle analysis. \nBIOGRAPHY\nChristophe Darnault is Assistant Professor at the Department of Environmental Engineering and Earth Sciences at Clemson\nUniversity. He serves as Associate Editor for Frontiers in Environmental Science – Soil Processes\, and served as Associate Editor\nfor the Journal of Hydrology (Elsevier) (2011-2017). He is one of the Clemson’s representatives for the Consortium of\nUniversities for the Advancement of Hydrologic Science\, Inc. He has research and teaching experience at Rensselaer Polytechnic\nInstitute and University of Illinois at Chicago. He was also a visiting scholar at Yale University. He received his Ph.D. in\nEnvironmental and Water Resources Engineering from Cornell University (2000)\, and his combined M.S. &amp; B.S. degree\n(Diplôme d’Ingénieur) in Agricultural\, Environmental\, and Biological Engineering from the Institut Supérieur d’Agriculture\,\nLille\, France (1995). His experience has also encompassed working as water resources group leader at Environmental\nEngineering and Technology\, Inc. and as project engineer at Malcolm Pirnie\, Inc. (now the Water Division of ARCADIS). Dr.\nDarnault’s teaching and research interests are in the fields of biological and environmental engineering\, agricultural engineering\,\nhydrological sciences\, and water resources engineering. Particular contributions include the fate and transport of pathogenic\nmicroorganisms\, nanomaterials\, non-aqueous phase liquids\, and radionuclides in soils under natural conditions; vadose zone\nprocesses; and the development and application of novel methods– including light transmission\, fluorescence\, microbiological\,\nand molecular– for the monitoring of biological/environmental systems and processes.
URL:https://ccee.engr.it/event/joint-ccee-meas-seminar-christophe-darnault-clemson-university/
LOCATION:Mann 323\, 2501 Stinson Drive\, Raleigh\, NC\, 27675\, United States
CATEGORIES:Appear On Homepage,Seminars
GEO:35.7852401;-78.6692049
X-APPLE-STRUCTURED-LOCATION;VALUE=URI;X-ADDRESS=Mann 323 2501 Stinson Drive Raleigh NC 27675 United States;X-APPLE-RADIUS=500;X-TITLE=2501 Stinson Drive:geo:-78.6692049,35.7852401
END:VEVENT
END:VCALENDAR