BEGIN:VCALENDAR
VERSION:2.0
PRODID:-//Old CCEE - ECPv6.15.20//NONSGML v1.0//EN
CALSCALE:GREGORIAN
METHOD:PUBLISH
X-ORIGINAL-URL:https://ccee.engr.it
X-WR-CALDESC:Events for Old CCEE
REFRESH-INTERVAL;VALUE=DURATION:PT1H
X-Robots-Tag:noindex
X-PUBLISHED-TTL:PT1H
BEGIN:VTIMEZONE
TZID:America/New_York
BEGIN:DAYLIGHT
TZOFFSETFROM:-0500
TZOFFSETTO:-0400
TZNAME:EDT
DTSTART:20150308T070000
END:DAYLIGHT
BEGIN:STANDARD
TZOFFSETFROM:-0400
TZOFFSETTO:-0500
TZNAME:EST
DTSTART:20151101T060000
END:STANDARD
BEGIN:DAYLIGHT
TZOFFSETFROM:-0500
TZOFFSETTO:-0400
TZNAME:EDT
DTSTART:20160313T070000
END:DAYLIGHT
BEGIN:STANDARD
TZOFFSETFROM:-0400
TZOFFSETTO:-0500
TZNAME:EST
DTSTART:20161106T060000
END:STANDARD
BEGIN:DAYLIGHT
TZOFFSETFROM:-0500
TZOFFSETTO:-0400
TZNAME:EDT
DTSTART:20170312T070000
END:DAYLIGHT
BEGIN:STANDARD
TZOFFSETFROM:-0400
TZOFFSETTO:-0500
TZNAME:EST
DTSTART:20171105T060000
END:STANDARD
END:VTIMEZONE
BEGIN:VEVENT
DTSTART;TZID=America/New_York:20160920T080000
DTEND;TZID=America/New_York:20160921T170000
DTSTAMP:20260424T044131
CREATED:20160603T154618Z
LAST-MODIFIED:20160711T201532Z
UID:10000531-1474358400-1474477200@ccee.engr.it
SUMMARY:Engineering Career Fair
DESCRIPTION:Whether you are looking for a full-time job or a co-op or internship\, you will find the Engineering Career Fair at North Carolina State University a great place to start. Our Engineering Career Fair is one of the largest career fairs in the country held specifically for engineering students. The event provides an opportunity for prospective employers from a wide range of industries to meet with engineering students interested in working for their companies.
URL:https://ccee.engr.it/event/engineering-career-fair/
LOCATION:McKimmon Center\, 1101 Gorman St\, Raleigh\, NC\, 27606\, United States
CATEGORIES:Appear On Homepage
GEO:35.7827103;-78.6852193
X-APPLE-STRUCTURED-LOCATION;VALUE=URI;X-ADDRESS=McKimmon Center 1101 Gorman St Raleigh NC 27606 United States;X-APPLE-RADIUS=500;X-TITLE=1101 Gorman St:geo:-78.6852193,35.7827103
END:VEVENT
END:VCALENDAR