BEGIN:VCALENDAR
VERSION:2.0
PRODID:-//Old CCEE - ECPv6.15.20//NONSGML v1.0//EN
CALSCALE:GREGORIAN
METHOD:PUBLISH
X-WR-CALNAME:Old CCEE
X-ORIGINAL-URL:https://ccee.engr.it
X-WR-CALDESC:Events for Old CCEE
REFRESH-INTERVAL;VALUE=DURATION:PT1H
X-Robots-Tag:noindex
X-PUBLISHED-TTL:PT1H
BEGIN:VTIMEZONE
TZID:America/New_York
BEGIN:DAYLIGHT
TZOFFSETFROM:-0500
TZOFFSETTO:-0400
TZNAME:EDT
DTSTART:20200308T070000
END:DAYLIGHT
BEGIN:STANDARD
TZOFFSETFROM:-0400
TZOFFSETTO:-0500
TZNAME:EST
DTSTART:20201101T060000
END:STANDARD
BEGIN:DAYLIGHT
TZOFFSETFROM:-0500
TZOFFSETTO:-0400
TZNAME:EDT
DTSTART:20210314T070000
END:DAYLIGHT
BEGIN:STANDARD
TZOFFSETFROM:-0400
TZOFFSETTO:-0500
TZNAME:EST
DTSTART:20211107T060000
END:STANDARD
BEGIN:DAYLIGHT
TZOFFSETFROM:-0500
TZOFFSETTO:-0400
TZNAME:EDT
DTSTART:20220313T070000
END:DAYLIGHT
BEGIN:STANDARD
TZOFFSETFROM:-0400
TZOFFSETTO:-0500
TZNAME:EST
DTSTART:20221106T060000
END:STANDARD
BEGIN:DAYLIGHT
TZOFFSETFROM:-0500
TZOFFSETTO:-0400
TZNAME:EDT
DTSTART:20230312T070000
END:DAYLIGHT
BEGIN:STANDARD
TZOFFSETFROM:-0400
TZOFFSETTO:-0500
TZNAME:EST
DTSTART:20231105T060000
END:STANDARD
BEGIN:DAYLIGHT
TZOFFSETFROM:-0500
TZOFFSETTO:-0400
TZNAME:EDT
DTSTART:20240310T070000
END:DAYLIGHT
BEGIN:STANDARD
TZOFFSETFROM:-0400
TZOFFSETTO:-0500
TZNAME:EST
DTSTART:20241103T060000
END:STANDARD
BEGIN:DAYLIGHT
TZOFFSETFROM:-0500
TZOFFSETTO:-0400
TZNAME:EDT
DTSTART:20250309T070000
END:DAYLIGHT
BEGIN:STANDARD
TZOFFSETFROM:-0400
TZOFFSETTO:-0500
TZNAME:EST
DTSTART:20251102T060000
END:STANDARD
BEGIN:DAYLIGHT
TZOFFSETFROM:-0500
TZOFFSETTO:-0400
TZNAME:EDT
DTSTART:20260308T070000
END:DAYLIGHT
BEGIN:STANDARD
TZOFFSETFROM:-0400
TZOFFSETTO:-0500
TZNAME:EST
DTSTART:20261101T060000
END:STANDARD
END:VTIMEZONE
BEGIN:VEVENT
DTSTART;TZID=America/New_York:20250910T100000
DTEND;TZID=America/New_York:20250910T150000
DTSTAMP:20260421T090852
CREATED:20250812T163340Z
LAST-MODIFIED:20250825T200125Z
UID:10001010-1757498400-1757516400@ccee.engr.it
SUMMARY:Career Connections\, Day Two
DESCRIPTION:Launch Your Career at CCEE Career Connections \nMark your calendars for September 9–10\, 2025 — the Civil\, Construction\, and Environmental Engineering (CCEE) Career Connections event is your chance to meet employers\, make connections\, and explore internships\, co-ops\, and full-time job opportunities. Each day features different employers! \nWhy You Should Attend: \n\n\nNetwork with Industry Leaders: Meet recruiters from top civil\, construction\, and environmental engineering firms. \n\n\nUpdate Your Professional Headshot: Stop by our free photo booth to refresh your LinkedIn profile photo. \n\n\nWin Prizes: Attendees will have a chance to win exciting giveaways each day. \n\n\nEvent Details:September 9–10\, 202510:00 a.m. – 3:00 p.m. each dayDuke Energy Hall\, Hunt Library \nWhether you’re looking for your first internship or your next career step\, this is the place to make it happen.
URL:https://ccee.engr.it/event/career-connections-day-two/
LOCATION:Duke Energy Hall Room 2110C and 2110D in James B. Hunt\, Jr. Library\, 1070 Partners Way\, Raleigh\, NC\, United States
CATEGORIES:Appear On Homepage,Networking
END:VEVENT
BEGIN:VEVENT
DTSTART;TZID=America/New_York:20250909T100000
DTEND;TZID=America/New_York:20250909T150000
DTSTAMP:20260421T090853
CREATED:20250812T163231Z
LAST-MODIFIED:20250825T200231Z
UID:10001009-1757412000-1757430000@ccee.engr.it
SUMMARY:Career Connections\, Fall 2025
DESCRIPTION:Launch Your Career at CCEE Career Connections \nMark your calendars for September 9–10\, 2025 — the Civil\, Construction\, and Environmental Engineering (CCEE) Career Connections event is your chance to meet employers\, make connections\, and explore internships\, co-ops\, and full-time job opportunities. Each day features different employers! \nWhy You Should Attend: \n\n\nNetwork with Industry Leaders: Meet recruiters from top civil\, construction\, and environmental engineering firms. \n\n\nUpdate Your Professional Headshot: Stop by our free photo booth to refresh your LinkedIn profile photo. \n\n\nWin Prizes: Attendees will have a chance to win exciting giveaways each day. \n\n\nEvent Details:September 9–10\, 202510:00 a.m. – 3:00 p.m. each dayDuke Energy Hall\, Hunt Library \nWhether you’re looking for your first internship or your next career step\, this is the place to make it happen.
URL:https://ccee.engr.it/event/career-connections-fall-2025/
LOCATION:Duke Energy Hall Room 2110C and 2110D in James B. Hunt\, Jr. Library\, 1070 Partners Way\, Raleigh\, NC\, United States
CATEGORIES:Appear On Homepage,Networking
END:VEVENT
BEGIN:VEVENT
DTSTART;TZID=America/New_York:20250218T100000
DTEND;TZID=America/New_York:20250219T150000
DTSTAMP:20260421T090853
CREATED:20250107T174719Z
LAST-MODIFIED:20250107T174719Z
UID:10000993-1739872800-1739977200@ccee.engr.it
SUMMARY:CCEE Career Connections
DESCRIPTION:The Civil\, Construction\, and Environmental Engineering (CCEE) Career Connections event is a unique opportunity for employers to introduce their firm/company and network with students. \nAttendees will be undergraduate and graduate students who are actively seeking internships\, co-ops\, and full-time positions. \nThis is a 2-day event on February 18 and 19 from 10:00 a.m. – 3:00 p.m.
URL:https://ccee.engr.it/event/ccee-career-connections-3/
LOCATION:Duke Energy Hall Room 2110C and 2110D in James B. Hunt\, Jr. Library\, 1070 Partners Way\, Raleigh\, NC\, United States
CATEGORIES:Appear On Homepage,Networking
END:VEVENT
BEGIN:VEVENT
DTSTART;VALUE=DATE:20241101
DTEND;VALUE=DATE:20241102
DTSTAMP:20260421T090853
CREATED:20240612T183359Z
LAST-MODIFIED:20240612T183359Z
UID:10000983-1730419200-1730505599@ccee.engr.it
SUMMARY:2024 CCEE Hall of Fame Induction Ceremony
DESCRIPTION:Ceremony to be held in the morning at Duke Energy Hall in Hunt Library. More details to come.
URL:https://ccee.engr.it/event/2024-ccee-hall-of-fame-induction-ceremony/
LOCATION:Duke Energy Hall Room 2110C and 2110D in James B. Hunt\, Jr. Library\, 1070 Partners Way\, Raleigh\, NC\, United States
END:VEVENT
BEGIN:VEVENT
DTSTART;TZID=America/New_York:20240910T100000
DTEND;TZID=America/New_York:20240911T150000
DTSTAMP:20260421T090853
CREATED:20240808T185706Z
LAST-MODIFIED:20240808T185706Z
UID:10000989-1725962400-1726066800@ccee.engr.it
SUMMARY:CCEE Career Connections Job and Internship Fair
DESCRIPTION:The CCEE career fair is a great opportunity to find an internship or a job and network with local employers! \nFor a full list of companies attending\, visit go.ncsu.edu/cceecareerconnections. \nNo registration required.
URL:https://ccee.engr.it/event/ccee-career-connections-job-and-internship-fair-2/
LOCATION:Duke Energy Hall Room 2110C and 2110D in James B. Hunt\, Jr. Library\, 1070 Partners Way\, Raleigh\, NC\, United States
CATEGORIES:Appear On Homepage
END:VEVENT
BEGIN:VEVENT
DTSTART;TZID=America/New_York:20240209T133000
DTEND;TZID=America/New_York:20240209T150000
DTSTAMP:20260421T090853
CREATED:20240203T031700Z
LAST-MODIFIED:20240203T031700Z
UID:10000977-1707485400-1707490800@ccee.engr.it
SUMMARY:Shaw Lecture: Elevating the Performance  of the Built Environment through Cyberphysical Systems
DESCRIPTION:
URL:https://ccee.engr.it/event/shaw-lecture-elevating-the-performance-of-the-built-environment-through-cyberphysical-systems/
LOCATION:Duke Energy Hall Room 2110C and 2110D in James B. Hunt\, Jr. Library\, 1070 Partners Way\, Raleigh\, NC\, United States
END:VEVENT
BEGIN:VEVENT
DTSTART;TZID=America/New_York:20221104T080000
DTEND;TZID=America/New_York:20221104T170000
DTSTAMP:20260421T090853
CREATED:20220921T122151Z
LAST-MODIFIED:20220921T122335Z
UID:10000925-1667548800-1667581200@ccee.engr.it
SUMMARY:CCEE Hall of Fame Ceremony
DESCRIPTION:
URL:https://ccee.engr.it/event/ccee-hall-of-fame-ceremony/
LOCATION:Duke Energy Hall Room 2110C and 2110D in James B. Hunt\, Jr. Library\, 1070 Partners Way\, Raleigh\, NC\, United States
END:VEVENT
BEGIN:VEVENT
DTSTART;TZID=America/New_York:20211029T090000
DTEND;TZID=America/New_York:20211029T110000
DTSTAMP:20260421T090853
CREATED:20211021T142937Z
LAST-MODIFIED:20211021T143152Z
UID:10000857-1635498000-1635505200@ccee.engr.it
SUMMARY:2020-21 CCEE Alumni Hall of  Fame Induction Ceremony
DESCRIPTION:CCEE Alumni Hall of Fame Ceremony The Department of Civil\, Construction\, and Environmental Engineering at NC State is proud to honor the outstanding accomplishments of our graduates through the CCEE Hall of Fame. The CCEE Hall of Fame was established to inspire our current students and to celebrate the accomplishments of those extraordinary graduates who have used their education to excel throughout their careers. Their selection was based on professional achievement\, entrepreneurship\, and contributions to professional societies\, NC State and their communities. Of the more than 14\,800 CCEE alumni\, six will be inducted into this year’s class and nine into the 2020 class. The CCEE Department is honored to celebrate with the 2020-21 inductees and looks forward to recognizing others in the coming years. \n  \nSCHEDULE OF EVENTS \n9:00 a.m. – 9:30 a.m.\nCCEE Hall of Fame Meet and Greet (light breakfast) \nDuke Energy Hall Room 2110C and 2110D\nJames B. Hunt\, Jr. Library\, 1070 Partners Way \n  \n9:30 a.m. – 11:00 a.m. \nCCEE Alumni Hall of Fame Induction Ceremony\nDuke Energy Hall Room 2110C and 2110D\nJames B. Hunt\, Jr. Library\, 1070 Partners Way \n  \n1:00 p.m.\nFitts-Woolard Hall Dedication Event\nFutrell Plaza across from James B. Hunt\, Jr. Library
URL:https://ccee.engr.it/event/2020-21-ccee-alumni-hall-of-fame-induction-ceremony/
LOCATION:Duke Energy Hall Room 2110C and 2110D in James B. Hunt\, Jr. Library\, 1070 Partners Way\, Raleigh\, NC\, United States
CATEGORIES:Appear On Homepage
END:VEVENT
END:VCALENDAR