BEGIN:VCALENDAR
VERSION:2.0
PRODID:-//Old CCEE - ECPv6.15.20//NONSGML v1.0//EN
CALSCALE:GREGORIAN
METHOD:PUBLISH
X-ORIGINAL-URL:https://ccee.engr.it
X-WR-CALDESC:Events for Old CCEE
REFRESH-INTERVAL;VALUE=DURATION:PT1H
X-Robots-Tag:noindex
X-PUBLISHED-TTL:PT1H
BEGIN:VTIMEZONE
TZID:America/New_York
BEGIN:DAYLIGHT
TZOFFSETFROM:-0500
TZOFFSETTO:-0400
TZNAME:EDT
DTSTART:20210314T070000
END:DAYLIGHT
BEGIN:STANDARD
TZOFFSETFROM:-0400
TZOFFSETTO:-0500
TZNAME:EST
DTSTART:20211107T060000
END:STANDARD
BEGIN:DAYLIGHT
TZOFFSETFROM:-0500
TZOFFSETTO:-0400
TZNAME:EDT
DTSTART:20220313T070000
END:DAYLIGHT
BEGIN:STANDARD
TZOFFSETFROM:-0400
TZOFFSETTO:-0500
TZNAME:EST
DTSTART:20221106T060000
END:STANDARD
BEGIN:DAYLIGHT
TZOFFSETFROM:-0500
TZOFFSETTO:-0400
TZNAME:EDT
DTSTART:20230312T070000
END:DAYLIGHT
BEGIN:STANDARD
TZOFFSETFROM:-0400
TZOFFSETTO:-0500
TZNAME:EST
DTSTART:20231105T060000
END:STANDARD
BEGIN:DAYLIGHT
TZOFFSETFROM:-0500
TZOFFSETTO:-0400
TZNAME:EDT
DTSTART:20240310T070000
END:DAYLIGHT
BEGIN:STANDARD
TZOFFSETFROM:-0400
TZOFFSETTO:-0500
TZNAME:EST
DTSTART:20241103T060000
END:STANDARD
END:VTIMEZONE
BEGIN:VEVENT
DTSTART;TZID=America/New_York:20230223T120000
DTEND;TZID=America/New_York:20230223T130000
DTSTAMP:20260421T132534
CREATED:20230201T172447Z
LAST-MODIFIED:20230201T172447Z
UID:10000948-1677153600-1677157200@ccee.engr.it
SUMMARY:2023 Construction Engineering  Distinguished Speaker Series: The Importance of Leadership — Experiences of an NC State Construction Engineer
DESCRIPTION:Speaker: \nMike Lancaster \nPresident & CEO \nFrank L Blum Construction Company
URL:https://ccee.engr.it/event/2023-construction-engineering-distinguished-speaker-series-the-importance-of-leadership-experiences-of-an-nc-state-construction-engineer/
LOCATION:Fitts-Woolard Hall 3301\, Raleigh\, NC\, United States
CATEGORIES:Appear On Homepage,Seminars
END:VEVENT
BEGIN:VEVENT
DTSTART;TZID=America/New_York:20230209T120000
DTEND;TZID=America/New_York:20230209T130000
DTSTAMP:20260421T132534
CREATED:20230109T191250Z
LAST-MODIFIED:20230109T191250Z
UID:10000945-1675944000-1675947600@ccee.engr.it
SUMMARY:2023 Construction Engineering  Distinguished Speaker Series: Advantages for Construction Engineers by Working  with Multi-Disciplined  General Contractors
DESCRIPTION:Speaker: Eric S. Perkinson\, Vice President/Division Manager\, BRASFIELD & GORRIE\, LLC \nTopic: “Advantages for Construction Engineers by Working with Multi-Disciplined General Contractors ” \nLunch: Free Pizza\, served at 11:30am at FWH 3301
URL:https://ccee.engr.it/event/2023-construction-engineering-distinguished-speaker-series-advantages-for-construction-engineers-by-working-with-multi-disciplined-general-contractors/
LOCATION:Fitts-Woolard Hall 3301\, Raleigh\, NC\, United States
CATEGORIES:Appear On Homepage
END:VEVENT
BEGIN:VEVENT
DTSTART;TZID=America/New_York:20230206T124500
DTEND;TZID=America/New_York:20230206T134500
DTSTAMP:20260421T132534
CREATED:20230131T032553Z
LAST-MODIFIED:20230131T032553Z
UID:10000947-1675687500-1675691100@ccee.engr.it
SUMMARY:EWC Seminar by Asmita Narode - Methods to measure heat generation from ash in landfills
DESCRIPTION:Environmental\, Water Resources\, and Coastal Engineering Seminar Series \nFitts-Woolard Hall 3301 \nMethods to measure heat generation from ash in landfills\n \nAbstract: In recent years\, there have been reports of a few municipal solid waste landfills experiencing temperatures as high as 100ºC. These landfills are referred to as elevated temperature landfills (ETLFs). ETLFs require increased monitoring and management. A recently published landfill heat accumulation model identified reactions that contribute significant heat to landfills\, including the hydration and carbonation of Ca-containing wastes such as ash. Model predictions were based on published information on reaction thermodynamics and kinetics. However\, there is limited data on heat evolution from ash. This study aims to develop laboratory methods to measure heat evolution from Ca-containing ash under landfill-relevant conditions (presence of water and abundance of CO2). A semi-adiabatic reactor system was developed. The reactor consists of four major parts: an insulated container (dewar flask)\, insulation\, a sample container\, and a center channel to hold a temperature sensor. The temperature sensor is connected to a data acquisition device (LabJack). The reactor is characterized for heat loss so that temperature data during ash reaction can be used to calculate the rate and extent of heat generation. Reactor characterization involves the determination of two parameters; the coefficient of heat loss and the thermal capacity. Validation experiments were conducted by measuring heat evolution from the hydration of pure CaO and the carbonation of pure Ca(OH)2 and comparing those to theory. In the case of Ca(OH)2\, a continuous stream of N2/CO2 was provided\, and the CO2 uptake was compared to theoretical expected uptake. Heat evolution and CO2 uptake data were used to calculate the heat generation rate. This heat and rate will be used to better parameterize models of heat generation and accumulation in landfills. The coefficient of heat loss and thermal capacity was measured to be 105 J‧hr-1‧K-1 and 1200 J‧K-1\, respectively. The validation experiments yielded an efficiency between 103 and 106% for hydration and between 104 and 107% for carbonation\, respectively. Work is in progress to parameterize the landfill model. \nBiography: Asmita Narode is a Ph.D. student working with Dr. Morton Barlaz at NC State. Her work focuses on measuring heat generation from ash that is disposed of in landfills. She completed her undergraduate in Civil Engineering in India and her M.S. in environmental engineering at Georgia Tech. Before starting her Ph.D.\, Asmita worked for a consulting firm.
URL:https://ccee.engr.it/event/ewc-seminar-by-asmita-narode-methods-to-measure-heat-generation-from-ash-in-landfills/
LOCATION:Fitts-Woolard Hall 3301\, Raleigh\, NC\, United States
CATEGORIES:Appear On Homepage,Seminars
END:VEVENT
BEGIN:VEVENT
DTSTART;TZID=America/New_York:20230202T120000
DTEND;TZID=America/New_York:20230202T130000
DTSTAMP:20260421T132534
CREATED:20230109T191046Z
LAST-MODIFIED:20230109T191320Z
UID:10000943-1675339200-1675342800@ccee.engr.it
SUMMARY:2023 Construction Engineering  Distinguished Speaker Series: Opportunities in  Construction Engineering as  Raleigh-Durham-Chapel Hill Triangle Continues to Develop
DESCRIPTION:Speaker: Gray Talley\, Senior Vice President of Preconstruction\, SHELCO\, LLC \nTopic:   “Opportunities in Construction Engineering as Raleigh-Durham-Chapel Hill Triangle Continues to Develop” \nLunch:   Free pizza\, served at 11:30am at FWH 3301
URL:https://ccee.engr.it/event/2023-construction-engineering-distinguished-speaker-series-opportunities-in-construction-engineering-as-raleigh-durham-chapel-hill-triangle-continues-to-develop/
LOCATION:Fitts-Woolard Hall 3301\, Raleigh\, NC\, United States
CATEGORIES:Appear On Homepage
END:VEVENT
BEGIN:VEVENT
DTSTART;TZID=America/New_York:20230126T120000
DTEND;TZID=America/New_York:20230126T130000
DTSTAMP:20260421T132534
CREATED:20230109T190856Z
LAST-MODIFIED:20230109T190856Z
UID:10000944-1674734400-1674738000@ccee.engr.it
SUMMARY:2023 Construction Engineering  Distinguished Speaker Series: Achieving Success in the Construction Industry as a Female Construction Engineer
DESCRIPTION:Speaker: Kellie Renzi\, Director of Preconstruction and Estimating\, McDonald York Building Company \nTopic:   “Achieving Success in the Construction Industry as a Female Construction Engineer” \nLunch:   Free\, pizza served at 11:30am at FWH 3301 \n 
URL:https://ccee.engr.it/event/2023-construction-engineering-distinguished-speaker-series-achieving-success-in-the-construction-industry-as-a-female-construction-engineer/
LOCATION:Fitts-Woolard Hall 3301\, Raleigh\, NC\, United States
CATEGORIES:Appear On Homepage
END:VEVENT
BEGIN:VEVENT
DTSTART;TZID=America/New_York:20221104T140000
DTEND;TZID=America/New_York:20221104T150000
DTSTAMP:20260421T132534
CREATED:20221031T145838Z
LAST-MODIFIED:20221031T145838Z
UID:10000930-1667570400-1667574000@ccee.engr.it
SUMMARY:Meet the Department Head: Dr. Jackie MacDonald Gibson
DESCRIPTION:Join us on November 4 from 2-3 p.m. in Fitts-Woolard Hall 3301! Refreshments will be provided.
URL:https://ccee.engr.it/event/meet-the-department-head-dr-jackie-macdonald-gibson/
LOCATION:Fitts-Woolard Hall 3301\, Raleigh\, NC\, United States
CATEGORIES:Appear On Homepage
END:VEVENT
BEGIN:VEVENT
DTSTART;TZID=America/New_York:20221019T120000
DTEND;TZID=America/New_York:20221019T130000
DTSTAMP:20260421T132534
CREATED:20220902T164055Z
LAST-MODIFIED:20220902T164055Z
UID:10000919-1666180800-1666184400@ccee.engr.it
SUMMARY:2022 Construction Engineering Distinguished Speaker Series: The Future of Construction and Construction Engineers
DESCRIPTION:Speaker: \nCharlie Wilson; President\, CT Wilson Construction Co.\, Inc.; Chair\, NC\, Associated General Contractors (AGC)
URL:https://ccee.engr.it/event/2022-construction-engineering-distinguished-speaker-series-the-future-of-construction-and-construction-engineers/
LOCATION:Fitts-Woolard Hall 3301\, Raleigh\, NC\, United States
END:VEVENT
BEGIN:VEVENT
DTSTART;TZID=America/New_York:20221005T120000
DTEND;TZID=America/New_York:20221005T130000
DTSTAMP:20260421T132534
CREATED:20220902T163921Z
LAST-MODIFIED:20220902T163921Z
UID:10000918-1664971200-1664974800@ccee.engr.it
SUMMARY:2022 Construction Engineering Distinguished Speaker Series: Success in Construction Engineering: Is This Really a MEN's World?
DESCRIPTION:Speakers: \nRebecca Dupuis; Manager\, Preconstruction\, Holder Construction \nKellie Renzi; Director\, Preconstruction and Estimating\, McDonald York Building Co.
URL:https://ccee.engr.it/event/2022-construction-engineering-distinguished-speaker-series-success-in-construction-engineering-is-this-really-a-mens-world/
LOCATION:Fitts-Woolard Hall 3301\, Raleigh\, NC\, United States
END:VEVENT
BEGIN:VEVENT
DTSTART;TZID=America/New_York:20220928T120000
DTEND;TZID=America/New_York:20220928T130000
DTSTAMP:20260421T132534
CREATED:20220902T163807Z
LAST-MODIFIED:20220902T163807Z
UID:10000917-1664366400-1664370000@ccee.engr.it
SUMMARY:2022 Construction Engineering Distinguished Speaker Series: From ExxonMobil to Chick-fil-A: Rewarding Construction Engineering Careers beyond the General Contracting Industry
DESCRIPTION:Speaker: John Romanello\, PMP\, MBA; Sr. Principal\, Strategic Reinvestment\, Chick-Fil-A\, Inc.
URL:https://ccee.engr.it/event/2022-construction-engineering-distinguished-speaker-series-from-exxonmobil-to-chick-fil-a-rewarding-construction-engineering-careers-beyond-the-general-contracting-industry/
LOCATION:Fitts-Woolard Hall 3301\, Raleigh\, NC\, United States
END:VEVENT
BEGIN:VEVENT
DTSTART;TZID=America/New_York:20220923T100000
DTEND;TZID=America/New_York:20220923T113000
DTSTAMP:20260421T132534
CREATED:20220725T153912Z
LAST-MODIFIED:20220725T153912Z
UID:10000906-1663927200-1663932600@ccee.engr.it
SUMMARY:How to Ace the CCEE Career Fair
DESCRIPTION:Learn everything you need to know to make the most of the upcoming CCEE Career Connections Day and the COE Career Fair.
URL:https://ccee.engr.it/event/how-to-ace-the-ccee-career-fair/
LOCATION:Fitts-Woolard Hall 3301\, Raleigh\, NC\, United States
CATEGORIES:Appear On Homepage
END:VEVENT
BEGIN:VEVENT
DTSTART;TZID=America/New_York:20220914T120000
DTEND;TZID=America/New_York:20220914T130000
DTSTAMP:20260421T132534
CREATED:20220902T163559Z
LAST-MODIFIED:20220912T142854Z
UID:10000916-1663156800-1663160400@ccee.engr.it
SUMMARY:2022 Construction Engineering Distinguished Speaker Series: Field and/or Office: Career Paths and Opportunities in Construction Engineering
DESCRIPTION:Speakers: \nTravis Wetteroff\, PE; Superintendent\, Brasfield & Gorrie \nCecilia Sanchez\, EI; Intern\, Brasfield & Gorrie
URL:https://ccee.engr.it/event/2022-construction-engineering-distinguished-speaker-series-field-and-or-office-career-paths-and-opportunities-in-construction-engineering/
LOCATION:Fitts-Woolard Hall 3301\, Raleigh\, NC\, United States
CATEGORIES:Appear On Homepage
END:VEVENT
BEGIN:VEVENT
DTSTART;TZID=America/New_York:20220907T120000
DTEND;TZID=America/New_York:20220907T130000
DTSTAMP:20260421T132534
CREATED:20220902T163346Z
LAST-MODIFIED:20220902T163346Z
UID:10000915-1662552000-1662555600@ccee.engr.it
SUMMARY:2022 Construction Engineering Distinguished Speaker Series: Entrepreneurial and Growth Opportunities in Construction Engineering
DESCRIPTION:Speaker: Gudell Ward\, PE\, CCM; Managing Principal\, IMEC Group\, LLC
URL:https://ccee.engr.it/event/2022-construction-engineering-distinguished-speaker-series-entrepreneurial-and-growth-opportunities-in-construction-engineering/
LOCATION:Fitts-Woolard Hall 3301\, Raleigh\, NC\, United States
END:VEVENT
BEGIN:VEVENT
DTSTART;TZID=America/New_York:20220824T120000
DTEND;TZID=America/New_York:20220824T130000
DTSTAMP:20260421T132534
CREATED:20220815T144452Z
LAST-MODIFIED:20220815T144452Z
UID:10000911-1661342400-1661346000@ccee.engr.it
SUMMARY:2022 Construction Engineering  Distinguished Speaker Series: Challenges and  Rewards of a Life in  Construction Engineering
DESCRIPTION:Speaker: \nMike Gwyn\, PE \nOwner and President \nGwyn Consulting Services\, Inc.
URL:https://ccee.engr.it/event/2022-construction-engineering-distinguished-speaker-series-challenges-and-rewards-of-a-life-in-construction-engineering/
LOCATION:Fitts-Woolard Hall 3301\, Raleigh\, NC\, United States
CATEGORIES:Appear On Homepage,Seminars
END:VEVENT
BEGIN:VEVENT
DTSTART;TZID=America/New_York:20220421T150000
DTEND;TZID=America/New_York:20220421T160000
DTSTAMP:20260421T132534
CREATED:20220411T134327Z
LAST-MODIFIED:20220411T134327Z
UID:10000894-1650553200-1650556800@ccee.engr.it
SUMMARY:Seminar: Waves Through Aquatic Vegetation: Flow-Vegetation Hydrodynamics and Sediment Transport
DESCRIPTION:Abstract: Aquatic vegetation alters the flow and sediment mobility within and around them\, shaping coastal environments in the long term. Improved sediment transport relations for vegetated flows become fundamental for predicting sediment transport rates through aquatic coastal ecosystems. We investigate suspended sediment transport under flow-vegetation hydrodynamics in oscillatory boundary layers. We conduct experiments in a U-shaped oscillatory tunnel using optical techniques\, including 2D and 3D particle image velocimetry. We explore how aquatic plants change the near-bed and in-canopy hydrodynamics from the single-plant scale to the vegetation patch scale. For a single plant\, we study the effect of vegetation morphology (shape and biomechanics) on the turbulence characteristics. We focus on the vegetation drag at the canopy top and near the bed to explore the flow-vegetation hydrodynamics. For sediment experiments\, we evaluate the impact of vegetation on the suspended sediment transport mechanisms. These various boundaries inform for a better assessment of the role of aquatic vegetation as eco-engineers in wave-dominated environments. \nJorge San Juan is a postdoctoral associate at St. Anthony Falls Laboratory in the Department of Civil\, Environmental\, and Geo-Engineering at the University of Minnesota Twin Cities. His research focuses on coastal eco-hydraulics\, eco-morphodynamics\, and experimental methods. Dr. San Juan completed his B.S. (2012) at the University of Cartagena (Colombia) in civil engineering. He received his M.S. (2016) and Ph.D. (2021) from the University of Illinois Urbana-Champaign in Water Resources Engineering and Science in Civil and Environmental Engineering. He is one of the co-founders of the Latinx/Latin American Academic (LLAmA) Talks initiative and an active member of Geolatinas.
URL:https://ccee.engr.it/event/seminar-waves-through-aquatic-vegetation-flow-vegetation-hydrodynamics-and-sediment-transport/
LOCATION:Fitts-Woolard Hall 3301\, Raleigh\, NC\, United States
CATEGORIES:Appear On Homepage
END:VEVENT
BEGIN:VEVENT
DTSTART;TZID=America/New_York:20220420T170000
DTEND;TZID=America/New_York:20220420T180000
DTSTAMP:20260421T132534
CREATED:20220414T123757Z
LAST-MODIFIED:20220414T123757Z
UID:10000895-1650474000-1650477600@ccee.engr.it
SUMMARY:CCEE Student Group Mixer
DESCRIPTION:Join Construction Alliance; NC SafeWater (NCSW); Coasts\, Oceans\, Ports\, and Rivers Institute (COPRI); and American Concrete Institute (ACI) for food\, activities and networking! \n  \nStudent sign up: go.ncsu.edu/mixersignup
URL:https://ccee.engr.it/event/ccee-student-group-mixer-2/
LOCATION:Fitts-Woolard Hall 3301\, Raleigh\, NC\, United States
CATEGORIES:Appear On Homepage,Networking
END:VEVENT
BEGIN:VEVENT
DTSTART;TZID=America/New_York:20220408T140000
DTEND;TZID=America/New_York:20220408T153000
DTSTAMP:20260421T132534
CREATED:20220331T120240Z
LAST-MODIFIED:20220331T120240Z
UID:10000893-1649426400-1649431800@ccee.engr.it
SUMMARY:Schnabel Engineering Seminar
DESCRIPTION:Tackling complex civil engineering infrastructure projects requires a collaborative team with expertise in various disciplines. Charles Johnson\, PE\, SE from Schnabel Engineering will share a few project examples highlighting structural\, geotechnical\, hydrology\, hydraulics\, civil\, and construction management components. During this 45-minute presentation\, Charles will share a few lessons learned from his 15 years of experience in various civil engineering markets\, in the dams\, nuclear\, and building industries. He will include technical and non-technical aspects. A 30-minute interactive discussion will follow the presentation.
URL:https://ccee.engr.it/event/schnabel-engineering-seminar/
LOCATION:Fitts-Woolard Hall 3301\, Raleigh\, NC\, United States
CATEGORIES:Appear On Homepage
END:VEVENT
END:VCALENDAR