BEGIN:VCALENDAR
VERSION:2.0
PRODID:-//Old CCEE - ECPv6.15.20//NONSGML v1.0//EN
CALSCALE:GREGORIAN
METHOD:PUBLISH
X-WR-CALNAME:Old CCEE
X-ORIGINAL-URL:https://ccee.engr.it
X-WR-CALDESC:Events for Old CCEE
REFRESH-INTERVAL;VALUE=DURATION:PT1H
X-Robots-Tag:noindex
X-PUBLISHED-TTL:PT1H
BEGIN:VTIMEZONE
TZID:America/New_York
BEGIN:DAYLIGHT
TZOFFSETFROM:-0500
TZOFFSETTO:-0400
TZNAME:EDT
DTSTART:20210314T070000
END:DAYLIGHT
BEGIN:STANDARD
TZOFFSETFROM:-0400
TZOFFSETTO:-0500
TZNAME:EST
DTSTART:20211107T060000
END:STANDARD
BEGIN:DAYLIGHT
TZOFFSETFROM:-0500
TZOFFSETTO:-0400
TZNAME:EDT
DTSTART:20220313T070000
END:DAYLIGHT
BEGIN:STANDARD
TZOFFSETFROM:-0400
TZOFFSETTO:-0500
TZNAME:EST
DTSTART:20221106T060000
END:STANDARD
BEGIN:DAYLIGHT
TZOFFSETFROM:-0500
TZOFFSETTO:-0400
TZNAME:EDT
DTSTART:20230312T070000
END:DAYLIGHT
BEGIN:STANDARD
TZOFFSETFROM:-0400
TZOFFSETTO:-0500
TZNAME:EST
DTSTART:20231105T060000
END:STANDARD
BEGIN:DAYLIGHT
TZOFFSETFROM:-0500
TZOFFSETTO:-0400
TZNAME:EDT
DTSTART:20240310T070000
END:DAYLIGHT
BEGIN:STANDARD
TZOFFSETFROM:-0400
TZOFFSETTO:-0500
TZNAME:EST
DTSTART:20241103T060000
END:STANDARD
BEGIN:DAYLIGHT
TZOFFSETFROM:-0500
TZOFFSETTO:-0400
TZNAME:EDT
DTSTART:20250309T070000
END:DAYLIGHT
BEGIN:STANDARD
TZOFFSETFROM:-0400
TZOFFSETTO:-0500
TZNAME:EST
DTSTART:20251102T060000
END:STANDARD
BEGIN:DAYLIGHT
TZOFFSETFROM:-0500
TZOFFSETTO:-0400
TZNAME:EDT
DTSTART:20260308T070000
END:DAYLIGHT
BEGIN:STANDARD
TZOFFSETFROM:-0400
TZOFFSETTO:-0500
TZNAME:EST
DTSTART:20261101T060000
END:STANDARD
END:VTIMEZONE
BEGIN:VEVENT
DTSTART;TZID=America/New_York:20250903T150000
DTEND;TZID=America/New_York:20250903T160000
DTSTAMP:20260421T104139
CREATED:20250805T180123Z
LAST-MODIFIED:20250805T181553Z
UID:10001006-1756911600-1756915200@ccee.engr.it
SUMMARY:Preparing for the Career Fair Workshop
DESCRIPTION:In this workshop\, you will learn how to prepare for CCEE’s upcoming Career Connections Days (September 9-10)\, including how to talk with employers. This workshop is open to all students (undergraduate & graduate) and postdocs in CCEE. Location: Fitts-Woolard Hall room 3361. This workshop is in-person only. Snacks are provided!
URL:https://ccee.engr.it/event/preparing-for-the-career-fair-workshop/
LOCATION:Fitts-Woolard Hall 3361\, Raleigh\, NC\, United States
CATEGORIES:Workshops
END:VEVENT
BEGIN:VEVENT
DTSTART;TZID=America/New_York:20250825T150000
DTEND;TZID=America/New_York:20250825T163000
DTSTAMP:20260421T104139
CREATED:20250805T181921Z
LAST-MODIFIED:20250805T181921Z
UID:10001007-1756134000-1756139400@ccee.engr.it
SUMMARY:Applying for Academic Jobs workshop
DESCRIPTION:If you are a PhD student or postdoc planning on applying to academic (faculty or national labs) positions this year\, this workshop is for you. We will discuss how to prepare the various documents and read job ads. A follow up workshop will be scheduled to review documents. This workshop is in-person only and will not be recorded.
URL:https://ccee.engr.it/event/applying-for-academic-jobs-workshop/
LOCATION:Fitts-Woolard Hall 3361\, Raleigh\, NC\, United States
CATEGORIES:Workshops
END:VEVENT
BEGIN:VEVENT
DTSTART;TZID=America/New_York:20241030T120000
DTEND;TZID=America/New_York:20241030T130000
DTSTAMP:20260421T104139
CREATED:20240808T182141Z
LAST-MODIFIED:20240808T182141Z
UID:10000988-1730289600-1730293200@ccee.engr.it
SUMMARY:Writing Literature Reviews
DESCRIPTION:In this seminar hosted by CCEE faculty member Dr. Meagan Kittle Autry\, we will cover how to write a literature review. This workshop is designed for any CCEE graduate students or postdoc.
URL:https://ccee.engr.it/event/writing-literature-reviews/
LOCATION:Fitts-Woolard Hall 3361\, Raleigh\, NC\, United States
CATEGORIES:Appear On Homepage,Seminars
END:VEVENT
BEGIN:VEVENT
DTSTART;TZID=America/New_York:20241001T100000
DTEND;TZID=America/New_York:20241001T110000
DTSTAMP:20260421T104139
CREATED:20240808T181906Z
LAST-MODIFIED:20240808T181906Z
UID:10000987-1727776800-1727780400@ccee.engr.it
SUMMARY:Preparing for Academic Job Interviews
DESCRIPTION:In this workshop\, you will learn how to prepare for first and second round faculty job interviews. This workshop is designed for advanced-stage PhD students and postdocs who are actively on the academic job market this fall.
URL:https://ccee.engr.it/event/preparing-for-academic-job-interviews/
LOCATION:Fitts-Woolard Hall 3361\, Raleigh\, NC\, United States
CATEGORIES:Appear On Homepage
END:VEVENT
BEGIN:VEVENT
DTSTART;TZID=America/New_York:20240904T150000
DTEND;TZID=America/New_York:20240904T163000
DTSTAMP:20260421T104139
CREATED:20240808T181538Z
LAST-MODIFIED:20240808T181538Z
UID:10000986-1725462000-1725467400@ccee.engr.it
SUMMARY:Preparing for the CCEE Career Fair
DESCRIPTION:In this workshop hosted by CCEE faculty member Dr. Meagan Kittle Autry\, we’ll cover how to polish your resume for the CCEE Career Connections and how to plan an elevator pitch and talk to employers. Bring a resume draft if you have one\, and bring a friend! Open to all CCEE undergraduate students\, graduate students\, and postdocs.
URL:https://ccee.engr.it/event/preparing-for-the-ccee-career-fair/
LOCATION:Fitts-Woolard Hall 3361\, Raleigh\, NC\, United States
CATEGORIES:Appear On Homepage
END:VEVENT
BEGIN:VEVENT
DTSTART;TZID=America/New_York:20230918T140000
DTEND;TZID=America/New_York:20230918T150000
DTSTAMP:20260421T104139
CREATED:20230821T195407Z
LAST-MODIFIED:20230821T195407Z
UID:10000966-1695045600-1695049200@ccee.engr.it
SUMMARY:Preparing for NC State's 3MT Competition
DESCRIPTION:This event is open to all CCEE graduate students eligible for NC State’s Three Minute Thesis competition who wish to learn more about the keys to a successful talk. Learn more about the NC State 3MT at go.ncsu.edu/3mt.
URL:https://ccee.engr.it/event/preparing-for-nc-states-3mt-competition/
LOCATION:Fitts-Woolard Hall 3361\, Raleigh\, NC\, United States
END:VEVENT
BEGIN:VEVENT
DTSTART;TZID=America/New_York:20230301T130000
DTEND;TZID=America/New_York:20230301T140000
DTSTAMP:20260421T104139
CREATED:20230224T202714Z
LAST-MODIFIED:20230224T202714Z
UID:10000955-1677675600-1677679200@ccee.engr.it
SUMMARY:Designing Research Posters
DESCRIPTION:Presenting at an upcoming symposium or conference? Join this interactive workshop to learn how to design and present your research poster.
URL:https://ccee.engr.it/event/designing-research-posters/
LOCATION:Fitts-Woolard Hall 3361\, Raleigh\, NC\, United States
END:VEVENT
BEGIN:VEVENT
DTSTART;TZID=America/New_York:20230126T150000
DTEND;TZID=America/New_York:20230126T160000
DTSTAMP:20260421T104139
CREATED:20230103T173738Z
LAST-MODIFIED:20230103T173738Z
UID:10000942-1674745200-1674748800@ccee.engr.it
SUMMARY:How to Ace the Career Fair
DESCRIPTION:Learn how to effectively prepare for the career fair and have great conversations with employers. Open to all CCEE undergraduates\, graduate students\, and postdocs. This is an in-person event in FWH 3361 (southeast corner).
URL:https://ccee.engr.it/event/how-to-ace-the-career-fair/
LOCATION:Fitts-Woolard Hall 3361\, Raleigh\, NC\, United States
END:VEVENT
BEGIN:VEVENT
DTSTART;TZID=America/New_York:20221207T130000
DTEND;TZID=America/New_York:20221207T150000
DTSTAMP:20260421T104139
CREATED:20221206T134429Z
LAST-MODIFIED:20221206T134429Z
UID:10000936-1670418000-1670425200@ccee.engr.it
SUMMARY:PhD Oral Preliminary Exam of Stephanie Parsons
DESCRIPTION:PhD Oral Preliminary Exam of Stephanie Parsons \nWednesday\, December 7⋅1:00 – 3:00pm FWH 3361 \n“Quantifying Biomass Cook Stove Performance and Exposure Implications in Lab and Field Settings”\nUnder the direction of Prof. Andrew Grieshop \n\n\nJoin Zoom Meeting\nID: 97231915590\nPasscode: 627802
URL:https://ccee.engr.it/event/phd-oral-preliminary-exam-of-stephanie-parsons/
LOCATION:Fitts-Woolard Hall 3361\, Raleigh\, NC\, United States
CATEGORIES:Appear On Homepage,Oral Exams
END:VEVENT
BEGIN:VEVENT
DTSTART;TZID=America/New_York:20221122T110000
DTEND;TZID=America/New_York:20221122T120000
DTSTAMP:20260421T104139
CREATED:20220725T155057Z
LAST-MODIFIED:20220725T155057Z
UID:10000909-1669114800-1669118400@ccee.engr.it
SUMMARY:Editing Your Writing
DESCRIPTION:This session will introduce you to key principles for effectively editing your writing. This workshop will be hands-on; you will actively edit a manuscript using the ideas presented. Come with an electronic device and a paper or other project you need to work on.
URL:https://ccee.engr.it/event/editing-your-writing/
LOCATION:Fitts-Woolard Hall 3361\, Raleigh\, NC\, United States
CATEGORIES:Appear On Homepage
END:VEVENT
BEGIN:VEVENT
DTSTART;TZID=America/New_York:20221026T153000
DTEND;TZID=America/New_York:20221026T163000
DTSTAMP:20260421T104139
CREATED:20220725T154628Z
LAST-MODIFIED:20220725T154628Z
UID:10000908-1666798200-1666801800@ccee.engr.it
SUMMARY:Time Management
DESCRIPTION:In this workshop for graduate students and postdoctoral scholars\, we will explore various strategies for time management and principles to help you succeed.
URL:https://ccee.engr.it/event/time-management/
LOCATION:Fitts-Woolard Hall 3361\, Raleigh\, NC\, United States
CATEGORIES:Appear On Homepage
END:VEVENT
BEGIN:VEVENT
DTSTART;TZID=America/New_York:20221004T100000
DTEND;TZID=America/New_York:20221004T110000
DTSTAMP:20260421T104139
CREATED:20220725T154207Z
LAST-MODIFIED:20220725T154207Z
UID:10000907-1664877600-1664881200@ccee.engr.it
SUMMARY:How to Prepare for Faculty Job Interviews
DESCRIPTION:In this workshop you will learn about how faculty job interviews work\, including phone\, Zoom\, and on-campus sessions. This workshop is intended for late-stage PhD students and postdocs who are on the market or will be on the market in the next job season.
URL:https://ccee.engr.it/event/how-to-prepare-for-faculty-job-interviews/
LOCATION:Fitts-Woolard Hall 3361\, Raleigh\, NC\, United States
CATEGORIES:Appear On Homepage
END:VEVENT
BEGIN:VEVENT
DTSTART;TZID=America/New_York:20220914T150000
DTEND;TZID=America/New_York:20220914T160000
DTSTAMP:20260421T104139
CREATED:20220725T153608Z
LAST-MODIFIED:20220725T153608Z
UID:10000905-1663167600-1663171200@ccee.engr.it
SUMMARY:Creating a Stellar Resume
DESCRIPTION:In this active workshop\, you will learn how to create a stellar resume that will get hiring managers’ attention during CCEE Career Connections and the College of Engineering Career Fair. Bring a copy of your current resume (hard copy or on an electronic device).
URL:https://ccee.engr.it/event/creating-a-stellar-resume/
LOCATION:Fitts-Woolard Hall 3361\, Raleigh\, NC\, United States
CATEGORIES:Appear On Homepage
END:VEVENT
BEGIN:VEVENT
DTSTART;TZID=America/New_York:20220906T153000
DTEND;TZID=America/New_York:20220906T163000
DTSTAMP:20260421T104139
CREATED:20220725T153313Z
LAST-MODIFIED:20220801T162223Z
UID:10000904-1662478200-1662481800@ccee.engr.it
SUMMARY:Tips and Tricks for Competing in the University-Wide 3MT Competition
DESCRIPTION:
URL:https://ccee.engr.it/event/tip-tricks-for-competing-in-the-university-wide-3mt-competition/
LOCATION:Fitts-Woolard Hall 3361\, Raleigh\, NC\, United States
CATEGORIES:Appear On Homepage
END:VEVENT
END:VCALENDAR