BEGIN:VCALENDAR
VERSION:2.0
PRODID:-//Old CCEE - ECPv6.15.20//NONSGML v1.0//EN
CALSCALE:GREGORIAN
METHOD:PUBLISH
X-WR-CALNAME:Old CCEE
X-ORIGINAL-URL:https://ccee.engr.it
X-WR-CALDESC:Events for Old CCEE
REFRESH-INTERVAL;VALUE=DURATION:PT1H
X-Robots-Tag:noindex
X-PUBLISHED-TTL:PT1H
BEGIN:VTIMEZONE
TZID:America/New_York
BEGIN:DAYLIGHT
TZOFFSETFROM:-0500
TZOFFSETTO:-0400
TZNAME:EDT
DTSTART:20200308T070000
END:DAYLIGHT
BEGIN:STANDARD
TZOFFSETFROM:-0400
TZOFFSETTO:-0500
TZNAME:EST
DTSTART:20201101T060000
END:STANDARD
BEGIN:DAYLIGHT
TZOFFSETFROM:-0500
TZOFFSETTO:-0400
TZNAME:EDT
DTSTART:20210314T070000
END:DAYLIGHT
BEGIN:STANDARD
TZOFFSETFROM:-0400
TZOFFSETTO:-0500
TZNAME:EST
DTSTART:20211107T060000
END:STANDARD
BEGIN:DAYLIGHT
TZOFFSETFROM:-0500
TZOFFSETTO:-0400
TZNAME:EDT
DTSTART:20220313T070000
END:DAYLIGHT
BEGIN:STANDARD
TZOFFSETFROM:-0400
TZOFFSETTO:-0500
TZNAME:EST
DTSTART:20221106T060000
END:STANDARD
END:VTIMEZONE
BEGIN:VEVENT
DTSTART;TZID=America/New_York:20210819T150000
DTEND;TZID=America/New_York:20210819T163000
DTSTAMP:20260421T162041
CREATED:20210818T181734Z
LAST-MODIFIED:20210818T181734Z
UID:10000844-1629385200-1629390600@ccee.engr.it
SUMMARY:CCEE/ISE Ice Cream Party
DESCRIPTION:Welcome back\, students\, faculty and staff! The CCEE and ISE departments want to celebrate the start of the semester with a sweet treat. Join us Thursday\, Aug.19 from 3-4:30 p.m. at the second floor entrance to Fitts-Woolard Hall.
URL:https://ccee.engr.it/event/ccee-ise-ice-cream-party/
LOCATION:Fitts-Woolard Hall Patio\, Raleigh\, NC\, United States
CATEGORIES:Appear On Homepage
END:VEVENT
END:VCALENDAR