BEGIN:VCALENDAR
VERSION:2.0
PRODID:-//Old CCEE - ECPv6.15.20//NONSGML v1.0//EN
CALSCALE:GREGORIAN
METHOD:PUBLISH
X-ORIGINAL-URL:https://ccee.engr.it
X-WR-CALDESC:Events for Old CCEE
REFRESH-INTERVAL;VALUE=DURATION:PT1H
X-Robots-Tag:noindex
X-PUBLISHED-TTL:PT1H
BEGIN:VTIMEZONE
TZID:America/New_York
BEGIN:DAYLIGHT
TZOFFSETFROM:-0500
TZOFFSETTO:-0400
TZNAME:EDT
DTSTART:20190310T070000
END:DAYLIGHT
BEGIN:STANDARD
TZOFFSETFROM:-0400
TZOFFSETTO:-0500
TZNAME:EST
DTSTART:20191103T060000
END:STANDARD
BEGIN:DAYLIGHT
TZOFFSETFROM:-0500
TZOFFSETTO:-0400
TZNAME:EDT
DTSTART:20200308T070000
END:DAYLIGHT
BEGIN:STANDARD
TZOFFSETFROM:-0400
TZOFFSETTO:-0500
TZNAME:EST
DTSTART:20201101T060000
END:STANDARD
BEGIN:DAYLIGHT
TZOFFSETFROM:-0500
TZOFFSETTO:-0400
TZNAME:EDT
DTSTART:20210314T070000
END:DAYLIGHT
BEGIN:STANDARD
TZOFFSETFROM:-0400
TZOFFSETTO:-0500
TZNAME:EST
DTSTART:20211107T060000
END:STANDARD
BEGIN:DAYLIGHT
TZOFFSETFROM:-0500
TZOFFSETTO:-0400
TZNAME:EDT
DTSTART:20220313T070000
END:DAYLIGHT
BEGIN:STANDARD
TZOFFSETFROM:-0400
TZOFFSETTO:-0500
TZNAME:EST
DTSTART:20221106T060000
END:STANDARD
BEGIN:DAYLIGHT
TZOFFSETFROM:-0500
TZOFFSETTO:-0400
TZNAME:EDT
DTSTART:20230312T070000
END:DAYLIGHT
BEGIN:STANDARD
TZOFFSETFROM:-0400
TZOFFSETTO:-0500
TZNAME:EST
DTSTART:20231105T060000
END:STANDARD
BEGIN:DAYLIGHT
TZOFFSETFROM:-0500
TZOFFSETTO:-0400
TZNAME:EDT
DTSTART:20240310T070000
END:DAYLIGHT
BEGIN:STANDARD
TZOFFSETFROM:-0400
TZOFFSETTO:-0500
TZNAME:EST
DTSTART:20241103T060000
END:STANDARD
BEGIN:DAYLIGHT
TZOFFSETFROM:-0500
TZOFFSETTO:-0400
TZNAME:EDT
DTSTART:20250309T070000
END:DAYLIGHT
BEGIN:STANDARD
TZOFFSETFROM:-0400
TZOFFSETTO:-0500
TZNAME:EST
DTSTART:20251102T060000
END:STANDARD
BEGIN:DAYLIGHT
TZOFFSETFROM:-0500
TZOFFSETTO:-0400
TZNAME:EDT
DTSTART:20260308T070000
END:DAYLIGHT
BEGIN:STANDARD
TZOFFSETFROM:-0400
TZOFFSETTO:-0500
TZNAME:EST
DTSTART:20261101T060000
END:STANDARD
BEGIN:DAYLIGHT
TZOFFSETFROM:-0500
TZOFFSETTO:-0400
TZNAME:EDT
DTSTART:20270314T070000
END:DAYLIGHT
BEGIN:STANDARD
TZOFFSETFROM:-0400
TZOFFSETTO:-0500
TZNAME:EST
DTSTART:20271107T060000
END:STANDARD
END:VTIMEZONE
BEGIN:VEVENT
DTSTART;TZID=America/New_York:20260223T100000
DTEND;TZID=America/New_York:20260224T150000
DTSTAMP:20260421T111101
CREATED:20260130T195434Z
LAST-MODIFIED:20260130T195816Z
UID:10001015-1771840800-1771945200@ccee.engr.it
SUMMARY:CCEE Career Connections Spring 2026
DESCRIPTION:The Spring 2026 CCEE Career Connections career fair will be held on Monday\, February 23 and Tuesday\, February 24 at the Duke Energy Hall in Hunt Library. This event is open to all CCEE students looking for internships\, jobs or networking opportunities. Come connect with over 40 employers and #ConstructYourCareer. \n2/23/2026 and 2/24/2026 from 10 a.m. – 3 p.m. each day. \nDetails via Career Fair Plus.
URL:https://ccee.engr.it/event/ccee-career-connections-spring-2026/
LOCATION:Hunt Library\, Duke Energy Hall\, Raleigh\, NC\, United States
CATEGORIES:Appear On Homepage,Career Fair
ATTACH;FMTTYPE=image/jpeg:https://ccee.engr.it/wp-content/uploads/2026/01/CCEE_CareerConnections_002-scaled.jpg
END:VEVENT
BEGIN:VEVENT
DTSTART;TZID=America/New_York:20250303T150000
DTEND;TZID=America/New_York:20250303T173000
DTSTAMP:20260421T111101
CREATED:20250128T170019Z
LAST-MODIFIED:20250128T170019Z
UID:10000996-1741014000-1741023000@ccee.engr.it
SUMMARY:2025 Shaw Lecture - Smart City Digital Twins: Toward More Sustainable\, Resilient\, and Livable Cities
DESCRIPTION:Smart City Digital Twins: Toward More Sustainable\, Resilient\, and Livable Cities\nMarch 3\, 2025\n3:00-4:30pm\, followed by a reception\nDuke Energy Hall\, Hunt Library \nJohn E. Taylor\, PhD\, NAC\nFrederick Law Olmsted Professor\nAssociate Chair for Faculty Development and Research Innovation\, Civil and Environmental Engineering\nGeorgia Tech \nABSTRACT:\nReports by the National Academies in the United States have encouraged investment in developing a more comprehensive understanding of network dynamics at the intersection between human and engineered networks. Concurrently\, cities are addressing rapid urbanization challenges by implementing socio-technological changes in their infrastructure systems as they evolve toward becoming smarter cities. The success of such an evolution\, however\, relies on solutions that can combine data from individual infrastructure components to urban scale networks. A great deal of research has focused on developing an understanding of data analytics at the scale of the city and of individual infrastructure components. However\, there is a gap in our understanding\, data collection approaches\, and analytical methods to integrate and visualize such disparate data and complex network dynamics. This presentation will describe efforts to formalize and implement a Smart City Digital Twin platform\, with an emphasis on efforts to understand\, model\, and improve energy consumption and disaster mobility across spatial scales in cities\, to foster more sustainable\, resilient\, and livable cities. \nPRESENTER BIO:\nDr. John E. Taylor is the inaugural Frederick Law Olmsted Professor of Civil and Environmental Engineering at Georgia Tech\, where he currently serves as the Associate Chair for Faculty Development and Research Innovation in the School of Civil and Environmental Engineering. Dr. Taylor received his PhD from Stanford University in 2006. At Georgia Tech\, he is founder and Director of the Network Dynamics Lab\, which focuses on; (1) achieving sustained energy conservation by coupling energy use with occupant networks and examining inter-building network phenomena in cities\, and (2) understanding and improving response times by affected human networks during extreme events in urban areas. Dr. Taylor’s research has received over $8M in funding from the National Science Foundation\, the Department of Energy\, the Alfred P. Sloan Foundation\, and other public and private funding sources. His research was awarded the National Science Foundation’s CAREER Award in 2011. In 2020\, Dr. Taylor was elected into the National Academy of Construction for his research and pedagogical efforts to improve urban sustainability and resilience and guide the evolution of smart cities. Dr. Taylor has authored over 250 technical publications\, won five journal best paper awards\, and founded two technology startups.
URL:https://ccee.engr.it/event/2025-shaw-lecture-smart-city-digital-twins-toward-more-sustainable-resilient-and-livable-cities/
LOCATION:Hunt Library\, Duke Energy Hall\, Raleigh\, NC\, United States
CATEGORIES:Appear On Homepage,Seminars
END:VEVENT
BEGIN:VEVENT
DTSTART;TZID=America/New_York:20231027T090000
DTEND;TZID=America/New_York:20231027T110000
DTSTAMP:20260421T111101
CREATED:20230523T185341Z
LAST-MODIFIED:20230524T131940Z
UID:10000963-1698397200-1698404400@ccee.engr.it
SUMMARY:2023 CCEE Hall of Fame Induction Ceremony
DESCRIPTION:Ceremony to be held in the morning at Duke Energy Hall in Hunt Library. More details to come.
URL:https://ccee.engr.it/event/2023-ccee-hall-of-fame-induction-ceremony/
LOCATION:Hunt Library\, Duke Energy Hall\, Raleigh\, NC\, United States
CATEGORIES:Appear On Homepage
END:VEVENT
BEGIN:VEVENT
DTSTART;TZID=America/New_York:20230310T120000
DTEND;TZID=America/New_York:20230310T170000
DTSTAMP:20260421T111101
CREATED:20230303T221923Z
LAST-MODIFIED:20230303T222206Z
UID:10000956-1678449600-1678467600@ccee.engr.it
SUMMARY:Environmental\, Water Resources and Coastal Engineering Graduate Research Symposium
DESCRIPTION:The environmental\, water resources\, and coastal engineering (EWC) group will hold its annual research symposium on Friday\, March 10 at the Duke Energy Hall in NC State’s Hunt Library. This student-organized symposium features poster and oral presentations by graduate students to highlight some of the current research conducted by this group\, as well as a keynote speech by an invited speaker.
URL:https://ccee.engr.it/event/environmental-water-resources-and-coastal-engineering-2023-graduate-research-symposium/
LOCATION:Hunt Library\, Duke Energy Hall\, Raleigh\, NC\, United States
CATEGORIES:Appear On Homepage
END:VEVENT
BEGIN:VEVENT
DTSTART;TZID=America/New_York:20230303T093000
DTEND;TZID=America/New_York:20230303T174500
DTSTAMP:20260421T111101
CREATED:20230220T135459Z
LAST-MODIFIED:20230220T135459Z
UID:10000952-1677835800-1677865500@ccee.engr.it
SUMMARY:27th Structural Engineering & Mechanics Symposium
DESCRIPTION:This annual event is “engineered” to highlight the amazing research at CCEE.\n\n\n\n\n\nThe event will be held in-person this year in the Hunt Library\, Duke Energy Hall.\n\n\nMore information here.
URL:https://ccee.engr.it/event/27th-structural-engineering-mechanics-symposium/
LOCATION:Hunt Library\, Duke Energy Hall\, Raleigh\, NC\, United States
CATEGORIES:Appear On Homepage
END:VEVENT
BEGIN:VEVENT
DTSTART;TZID=America/New_York:20230130T140000
DTEND;TZID=America/New_York:20230130T180000
DTSTAMP:20260421T111101
CREATED:20221118T142556Z
LAST-MODIFIED:20221118T142556Z
UID:10000931-1675087200-1675101600@ccee.engr.it
SUMMARY:CCEE Career Connections
DESCRIPTION:
URL:https://ccee.engr.it/event/ccee-career-connections-2/
LOCATION:Hunt Library\, Duke Energy Hall\, Raleigh\, NC\, United States
CATEGORIES:Appear On Homepage
END:VEVENT
BEGIN:VEVENT
DTSTART;TZID=America/New_York:20221025T150000
DTEND;TZID=America/New_York:20221025T170000
DTSTAMP:20260421T111101
CREATED:20221025T132019Z
LAST-MODIFIED:20221025T132019Z
UID:10000928-1666710000-1666717200@ccee.engr.it
SUMMARY:NC State Three Minute Thesis competition
DESCRIPTION:Help cheer on CCEE Ph.D. students James East and Adam Schmidt as they compete in the 8th Annual Three Minute Thesis competition hosted by the Graduate School.
URL:https://ccee.engr.it/event/nc-state-three-minute-thesis-competition/
LOCATION:Hunt Library\, Duke Energy Hall\, Raleigh\, NC\, United States
CATEGORIES:Appear On Homepage
END:VEVENT
BEGIN:VEVENT
DTSTART;TZID=America/New_York:20220929T093000
DTEND;TZID=America/New_York:20220929T160000
DTSTAMP:20260421T111101
CREATED:20220721T195443Z
LAST-MODIFIED:20220721T195443Z
UID:10000903-1664443800-1664467200@ccee.engr.it
SUMMARY:CCEE Career Connections
DESCRIPTION:The Civil\, Construction\, and Environmental Engineering (CCEE) Career Connections event will allow employers the opportunity to introduce their firm/company and network with students. \nAttendees will be undergraduate and graduate students who are actively seeking internships\, co-ops\, and full-time positions. \nThis is a 3-day event. September 28 and 29 will be in person from 9:30 a.m. – 4:00 p.m. September 30 will be virtual from 9:30 a.m. – 4:00 p.m. \nDue to limited space\, employers can only register for 1 in-person day. \nThe Civil\, Construction\, and Environmental Engineering (CCEE) Career Connections event will allow employers the opportunity to introduce their firm/company and network with students. \nAttendees will be undergraduate and graduate students who are actively seeking internships\, co-ops\, and full-time positions. \nRegistration for employers is $750 for In-Person and $450 for Virtual. \nIn-Person registration includes 6′ table\, lunch & snacks for up to 4 representatives\, 2 pre-paid parking permits\, and a resume book of all attendees. The event will be held in the Duke Energy Hall of the James B. Hunt Jr. Library. \nVirtual registration includes access to the Career Fair Plus virtual platform with integrated video and a resume book of all attendees. \n  \nClick here for more info and to register.
URL:https://ccee.engr.it/event/ccee-career-connections/
LOCATION:Hunt Library\, Duke Energy Hall\, Raleigh\, NC\, United States
CATEGORIES:Appear On Homepage
END:VEVENT
BEGIN:VEVENT
DTSTART;TZID=America/New_York:20220928T093000
DTEND;TZID=America/New_York:20220928T160000
DTSTAMP:20260421T111101
CREATED:20220721T194559Z
LAST-MODIFIED:20220721T195613Z
UID:10000901-1664357400-1664380800@ccee.engr.it
SUMMARY:CCEE Career Connections
DESCRIPTION:The Civil\, Construction\, and Environmental Engineering (CCEE) Career Connections event will allow employers the opportunity to introduce their firm/company and network with students. \nAttendees will be undergraduate and graduate students who are actively seeking internships\, co-ops\, and full-time positions. \nThis is a 3-day event. September 28 and 29 will be in person from 9:30 a.m. – 4:00 p.m. September 30 will be virtual from 9:30 a.m. – 4:00 p.m. \nDue to limited space\, employers can only register for 1 in-person day. \nThe Civil\, Construction\, and Environmental Engineering (CCEE) Career Connections event will allow employers the opportunity to introduce their firm/company and network with students. \nAttendees will be undergraduate and graduate students who are actively seeking internships\, co-ops\, and full-time positions. \nRegistration for employers is $750 for In-Person and $450 for Virtual. \nIn-Person registration includes 6′ table\, lunch & snacks for up to 4 representatives\, 2 pre-paid parking permits\, and a resume book of all attendees. The event will be held in the Duke Energy Hall of the James B. Hunt Jr. Library. \nVirtual registration includes access to the Career Fair Plus virtual platform with integrated video and a resume book of all attendees. \n  \nClick here for more info and to register.
URL:https://ccee.engr.it/event/civil-construction-and-environmental-engineering-ccee-career-connections/
LOCATION:Hunt Library\, Duke Energy Hall\, Raleigh\, NC\, United States
CATEGORIES:Appear On Homepage
END:VEVENT
BEGIN:VEVENT
DTSTART;TZID=America/New_York:20220304T113000
DTEND;TZID=America/New_York:20220304T170000
DTSTAMP:20260421T111101
CREATED:20220303T142149Z
LAST-MODIFIED:20220303T142149Z
UID:10000883-1646393400-1646413200@ccee.engr.it
SUMMARY:2022 Environmental\, Water Resources\, and Coastal Engineering (EWC) Virtual Symposium
DESCRIPTION:View event program and agenda: go.ncsu.edu/2022ewcsymposium
URL:https://ccee.engr.it/event/2022-environmental-water-resources-and-coastal-engineering-ewc-virtual-symposium/
LOCATION:Hunt Library\, Duke Energy Hall\, Raleigh\, NC\, United States
CATEGORIES:Appear On Homepage
END:VEVENT
BEGIN:VEVENT
DTSTART;TZID=America/New_York:20200203T120000
DTEND;TZID=America/New_York:20200203T170000
DTSTAMP:20260421T111101
CREATED:20200131T185254Z
LAST-MODIFIED:20200131T193727Z
UID:10000655-1580731200-1580749200@ccee.engr.it
SUMMARY:Career Connections Day
DESCRIPTION: 
URL:https://ccee.engr.it/event/career-connections-day/
LOCATION:Hunt Library\, Duke Energy Hall\, Raleigh\, NC\, United States
CATEGORIES:Appear On Homepage
END:VEVENT
END:VCALENDAR