BEGIN:VCALENDAR
VERSION:2.0
PRODID:-//Old CCEE - ECPv6.15.20//NONSGML v1.0//EN
CALSCALE:GREGORIAN
METHOD:PUBLISH
X-WR-CALNAME:Old CCEE
X-ORIGINAL-URL:https://ccee.engr.it
X-WR-CALDESC:Events for Old CCEE
REFRESH-INTERVAL;VALUE=DURATION:PT1H
X-Robots-Tag:noindex
X-PUBLISHED-TTL:PT1H
BEGIN:VTIMEZONE
TZID:America/New_York
BEGIN:DAYLIGHT
TZOFFSETFROM:-0500
TZOFFSETTO:-0400
TZNAME:EDT
DTSTART:20230312T070000
END:DAYLIGHT
BEGIN:STANDARD
TZOFFSETFROM:-0400
TZOFFSETTO:-0500
TZNAME:EST
DTSTART:20231105T060000
END:STANDARD
BEGIN:DAYLIGHT
TZOFFSETFROM:-0500
TZOFFSETTO:-0400
TZNAME:EDT
DTSTART:20240310T070000
END:DAYLIGHT
BEGIN:STANDARD
TZOFFSETFROM:-0400
TZOFFSETTO:-0500
TZNAME:EST
DTSTART:20241103T060000
END:STANDARD
BEGIN:DAYLIGHT
TZOFFSETFROM:-0500
TZOFFSETTO:-0400
TZNAME:EDT
DTSTART:20250309T070000
END:DAYLIGHT
BEGIN:STANDARD
TZOFFSETFROM:-0400
TZOFFSETTO:-0500
TZNAME:EST
DTSTART:20251102T060000
END:STANDARD
BEGIN:DAYLIGHT
TZOFFSETFROM:-0500
TZOFFSETTO:-0400
TZNAME:EDT
DTSTART:20260308T070000
END:DAYLIGHT
BEGIN:STANDARD
TZOFFSETFROM:-0400
TZOFFSETTO:-0500
TZNAME:EST
DTSTART:20261101T060000
END:STANDARD
END:VTIMEZONE
BEGIN:VEVENT
DTSTART;TZID=America/New_York:20251212T100000
DTEND;TZID=America/New_York:20251212T113000
DTSTAMP:20260421T111114
CREATED:20251118T204945Z
LAST-MODIFIED:20251209T173951Z
UID:10001013-1765533600-1765539000@ccee.engr.it
SUMMARY:Fall 2025 CCEE Graduation Ceremony
DESCRIPTION:Friday\, December 12\, 2025  ~ 10:00 a.m.  ~ McKimmon Center\, Room 1\nDuration of the ceremony will be approximately 90 minutes. \nGuest Speaker: TBA \nQuestions contact:\nUndergraduate: Rachael Ayres\nGraduate: Jodie Gregoritsch \nIf you are unable to make the ceremony\, you can livestream it here.\nGuest Tickets: Fall 2025 Graduation will not require tickets for guests\nThe CCEE Department Graduation Ceremony will not require tickets for entry for family and friends for the December 2025 ceremony. We ask that students are mindful of other graduates and stay around the 6 guest per graduate ratio. 
URL:https://ccee.engr.it/event/fall-2025-ccee-graduation-ceremony/
LOCATION:McKimmon Center\, Room 1
CATEGORIES:Appear On Homepage
END:VEVENT
BEGIN:VEVENT
DTSTART;TZID=America/New_York:20241213T100000
DTEND;TZID=America/New_York:20241213T113000
DTSTAMP:20260421T111114
CREATED:20241118T213126Z
LAST-MODIFIED:20241118T213126Z
UID:10000990-1734084000-1734089400@ccee.engr.it
SUMMARY:Fall 2024 CCEE Graduation Ceremony
DESCRIPTION:Guest Speaker: Jon Holtvedt\, DR Horton\, CCEE Advisory Board Member \nGuest Tickets: Fall 2024 Graduation will not require tickets for guests.\nThe CCEE Department Graduation Ceremony will not require tickets for entry for family and friends for the December 2024 ceremony. We ask that all students be mindful of other graduates\, and try to limit the number of guests to six per graduate.
URL:https://ccee.engr.it/event/fall-2024-ccee-graduation-ceremony/
LOCATION:McKimmon Center\, Room 1
CATEGORIES:Appear On Homepage
END:VEVENT
END:VCALENDAR