BEGIN:VCALENDAR
VERSION:2.0
PRODID:-//Old CCEE - ECPv6.15.20//NONSGML v1.0//EN
CALSCALE:GREGORIAN
METHOD:PUBLISH
X-ORIGINAL-URL:https://ccee.engr.it
X-WR-CALDESC:Events for Old CCEE
REFRESH-INTERVAL;VALUE=DURATION:PT1H
X-Robots-Tag:noindex
X-PUBLISHED-TTL:PT1H
BEGIN:VTIMEZONE
TZID:America/New_York
BEGIN:DAYLIGHT
TZOFFSETFROM:-0500
TZOFFSETTO:-0400
TZNAME:EDT
DTSTART:20150308T070000
END:DAYLIGHT
BEGIN:STANDARD
TZOFFSETFROM:-0400
TZOFFSETTO:-0500
TZNAME:EST
DTSTART:20151101T060000
END:STANDARD
BEGIN:DAYLIGHT
TZOFFSETFROM:-0500
TZOFFSETTO:-0400
TZNAME:EDT
DTSTART:20160313T070000
END:DAYLIGHT
BEGIN:STANDARD
TZOFFSETFROM:-0400
TZOFFSETTO:-0500
TZNAME:EST
DTSTART:20161106T060000
END:STANDARD
BEGIN:DAYLIGHT
TZOFFSETFROM:-0500
TZOFFSETTO:-0400
TZNAME:EDT
DTSTART:20170312T070000
END:DAYLIGHT
BEGIN:STANDARD
TZOFFSETFROM:-0400
TZOFFSETTO:-0500
TZNAME:EST
DTSTART:20171105T060000
END:STANDARD
BEGIN:DAYLIGHT
TZOFFSETFROM:-0500
TZOFFSETTO:-0400
TZNAME:EDT
DTSTART:20180311T070000
END:DAYLIGHT
BEGIN:STANDARD
TZOFFSETFROM:-0400
TZOFFSETTO:-0500
TZNAME:EST
DTSTART:20181104T060000
END:STANDARD
BEGIN:DAYLIGHT
TZOFFSETFROM:-0500
TZOFFSETTO:-0400
TZNAME:EDT
DTSTART:20190310T070000
END:DAYLIGHT
BEGIN:STANDARD
TZOFFSETFROM:-0400
TZOFFSETTO:-0500
TZNAME:EST
DTSTART:20191103T060000
END:STANDARD
BEGIN:DAYLIGHT
TZOFFSETFROM:-0500
TZOFFSETTO:-0400
TZNAME:EDT
DTSTART:20200308T070000
END:DAYLIGHT
BEGIN:STANDARD
TZOFFSETFROM:-0400
TZOFFSETTO:-0500
TZNAME:EST
DTSTART:20201101T060000
END:STANDARD
BEGIN:DAYLIGHT
TZOFFSETFROM:-0500
TZOFFSETTO:-0400
TZNAME:EDT
DTSTART:20210314T070000
END:DAYLIGHT
BEGIN:STANDARD
TZOFFSETFROM:-0400
TZOFFSETTO:-0500
TZNAME:EST
DTSTART:20211107T060000
END:STANDARD
BEGIN:DAYLIGHT
TZOFFSETFROM:-0500
TZOFFSETTO:-0400
TZNAME:EDT
DTSTART:20220313T070000
END:DAYLIGHT
BEGIN:STANDARD
TZOFFSETFROM:-0400
TZOFFSETTO:-0500
TZNAME:EST
DTSTART:20221106T060000
END:STANDARD
BEGIN:DAYLIGHT
TZOFFSETFROM:-0500
TZOFFSETTO:-0400
TZNAME:EDT
DTSTART:20230312T070000
END:DAYLIGHT
BEGIN:STANDARD
TZOFFSETFROM:-0400
TZOFFSETTO:-0500
TZNAME:EST
DTSTART:20231105T060000
END:STANDARD
BEGIN:DAYLIGHT
TZOFFSETFROM:-0500
TZOFFSETTO:-0400
TZNAME:EDT
DTSTART:20240310T070000
END:DAYLIGHT
BEGIN:STANDARD
TZOFFSETFROM:-0400
TZOFFSETTO:-0500
TZNAME:EST
DTSTART:20241103T060000
END:STANDARD
BEGIN:DAYLIGHT
TZOFFSETFROM:-0500
TZOFFSETTO:-0400
TZNAME:EDT
DTSTART:20250309T070000
END:DAYLIGHT
BEGIN:STANDARD
TZOFFSETFROM:-0400
TZOFFSETTO:-0500
TZNAME:EST
DTSTART:20251102T060000
END:STANDARD
BEGIN:DAYLIGHT
TZOFFSETFROM:-0500
TZOFFSETTO:-0400
TZNAME:EDT
DTSTART:20260308T070000
END:DAYLIGHT
BEGIN:STANDARD
TZOFFSETFROM:-0400
TZOFFSETTO:-0500
TZNAME:EST
DTSTART:20261101T060000
END:STANDARD
END:VTIMEZONE
BEGIN:VEVENT
DTSTART;TZID=America/New_York:20250502T133000
DTEND;TZID=America/New_York:20250502T150000
DTSTAMP:20260421T205221
CREATED:20250417T194653Z
LAST-MODIFIED:20250428T142042Z
UID:10001001-1746192600-1746198000@ccee.engr.it
SUMMARY:Spring 2025 CCEE Graduation Ceremony
DESCRIPTION:Please join us for a department Graduation Ceremony celebrating the graduates from the College of Engineering’s Civil\, Construction\, and Environmental Engineering program. \nFriday\, May 2\, 2025  ~ 1:30 p.m.  ~ McKimmon Center\, Room 1\nDuration of the ceremony will be approximately 90 minutes.  \nGuest Speaker: Michael Santowasso – Associate Vice President & Corporate Site-Civil Discipline Lead at Hazen and Sawyer \nQuestions contact:\nUndergraduate:  Rachael Ayres\nGraduate:  Jodie Gregoritsch \nGuest Tickets: Spring 2025 Graduation will require tickets for guests\nCCEE Spring 2025 Graduation Ceremony Program \nThe CCEE Department Graduation Ceremony will require tickets for entry for family and friends for the May 2025 ceremony. Students will only receive 4 tickets for guests. No extras will be permitted. Plan accordingly.  \nUniversity Commencement: \nSaturday\, May 3 2025\, at 9 a.m.\, in Carter Finley Stadium.(The embedded link includes information on the University Commencement including Schedule of Events\, Student Checklist\, Dining Options\, Dates & Deadlines\, and FAQs.) \nInstructions for the CCEE Graduation Ceremony:\nThe Lobby will be open for family & friends. Doors for the ceremony will open at 9:30 a.m. \nThe lineup for the procession begins at 1:00p.m. SHARP. \nOrder of processional will be: (alphabetically by last name according to the program provided at the ceremony) \n\nUndergraduates\nMCE\nMENE\nM.S.\nPh.D.\n\nNOTE:  Be mindful that other graduation ceremonies are taking place before\, during\, and after the CCEE Department ceremony. \nParking & Directions:   \n\nPNC Arena Parking\nMcKimmon Center Parking: Parking in the front lots of the McKimmon Center is free and usually plentiful. There are three smaller parking lots on each side of the center that are reserved for university employees. Visitors are asked to park in designated visitor parking spaces in order to avoid ticketing.\n\nThe McKimmon Center is located at 1101 Gorman Street\, Raleigh\, NC 27606 \nStudent Regalia \n\nRegalia should be worn by all graduates.\nClick here for information:  Student Regalia.\n\nThe link above describes the different regalia and who wears what.\n\n\nPricing is included in the information.\n\nLive Feed Link\nFor those of you not able to attend\, you can livestream the ceremony. \nLive Feed Link:  CCEE Spring 2025 Graduation Ceremony Livestream \nDiploma Distribution\nFinal clearance for candidates other than Doctoral is early June. All diplomas will be mailed to the address the student listed as their “Diploma or Home/Mailing address” in their MyPack Portal by early July. \nFor additional information see Record & Registration’s page for Diploma Distribution. \nTo update your address\, see the link on CCEE Graduate Student Central > Update Directory Information \n  \nGraduation Photos\nFor the professional photos taken at graduation\, contact: \nPhoto Specialties – 919-967-9576 ¦ info@photospecialties.com  \nGraduate Students:\nGraduation Student Survey:  Complete this survey regarding the graduation ceremony and the program. It will take approximately 10 minutes of your time and will help us tremendously in a number of ways. \nInternational Students needing a Letter of Invitation:  If you need a letter of invitation for visa purposes\, email the GSC (jagrego2@ncsu.edu) with the following information: \n\nYour full name\nYour student ID #\nEach individual family member’s full name plus date of birth\nWhat their relationship is to you
URL:https://ccee.engr.it/event/spring-2025-ccee-graduation-ceremony/
LOCATION:McKimmon Center\, 1101 Gorman St\, Raleigh\, NC\, 27606\, United States
CATEGORIES:Appear On Homepage
GEO:35.7827103;-78.6852193
X-APPLE-STRUCTURED-LOCATION;VALUE=URI;X-ADDRESS=McKimmon Center 1101 Gorman St Raleigh NC 27606 United States;X-APPLE-RADIUS=500;X-TITLE=1101 Gorman St:geo:-78.6852193,35.7827103
END:VEVENT
BEGIN:VEVENT
DTSTART;TZID=America/New_York:20250422T090000
DTEND;TZID=America/New_York:20250422T160000
DTSTAMP:20260421T205221
CREATED:20250122T202127Z
LAST-MODIFIED:20250122T202127Z
UID:10000995-1745312400-1745337600@ccee.engr.it
SUMMARY:First Year Engineering Design Day
DESCRIPTION:First-Year Engineering Design Day (FEDD) is an end-of-year opportunity for first-year engineering student teams to showcase their design projects and compete for awards. The projects are completed as part of the E 101 – Introduction to Engineering and Problem Solving course and allow students to put core design concepts into practice during their first year while learning how to work successfully in a team. \nMorning Session: 9:15 a.m. – 12:00 p.m.\nAwards will be presented from 11:30 a.m. until 12:00 p.m. \nAfternoon Session: 1:15 p.m. – 4:00 p.m.\nAwards will be presented from 3:30 p.m. until 4:00 p.m.
URL:https://ccee.engr.it/event/first-year-engineering-design-day/
LOCATION:McKimmon Center\, 1101 Gorman St\, Raleigh\, NC\, 27606\, United States
GEO:35.7827103;-78.6852193
X-APPLE-STRUCTURED-LOCATION;VALUE=URI;X-ADDRESS=McKimmon Center 1101 Gorman St Raleigh NC 27606 United States;X-APPLE-RADIUS=500;X-TITLE=1101 Gorman St:geo:-78.6852193,35.7827103
END:VEVENT
BEGIN:VEVENT
DTSTART;TZID=America/New_York:20230505T133000
DTEND;TZID=America/New_York:20230505T153000
DTSTAMP:20260421T205221
CREATED:20230406T131441Z
LAST-MODIFIED:20230406T132151Z
UID:10000961-1683293400-1683300600@ccee.engr.it
SUMMARY:CCEE Spring 2023 Commencement Ceremony and Reception
DESCRIPTION:Spring 2023 CCEE Graduation Ceremony\nFriday\, May 5  at 1:30 p.m. in NC State’s McKimmon Center\, Room 1 \n\nQuestions contact:\nUndergraduate students: Rachael Ayres\nGraduate students: Jodie Gregoritsch \n\nGraduation will require tickets for guests.\nThe CCEE Department Graduation Ceremony will require tickets for entry of family and friend to attend the ceremony. \n\nA maximum number of 6 tickets will be available to each graduate walking at the ceremony. This is determined based on the number of graduates and seating capacity of the venue.\nStudents can request tickets by ordering Graduation Guest Tickets. Ticket requests can be made April 10-28\, 2023.  \n\nIf you only need 2 tickets\, only request 2 tickets.\n\nTickets not claimed by April 28\, 2023\, will be released for any graduating student needing additional tickets on a first-come-first-serve basis.\n\nGraduating students will be able to add to their ticket order after May 1\, 2023.\n\n\n\n\nIf the need arises\, an overflow room will be made available in McKimmon running a live stream of the ceremony for family and friends wishing to attend the event without a ticket.\n\nTWO Graduation Ceremonies (University & CCEE Department): \n CCEE Department Graduation: Friday May 5 1:30 p.m. in the McKimmon Center.\n(Duration of ceremony will be approximately 90 minutes) \n\n\nGraduation Reception \n\nMcKimmon Center\, Room 8\nMay 5\, 3-3:30 p.m.\nA short reception will be hosted after the ceremony with light refreshments to celebrate your accomplishments!\n\n\n\nUniversity Commencement: May 6. This embedded link includes information on the University Commencement including Schedule of Events\, Student Checklist\, Dining Options\, Dates & Deadlines\, FAQs. \nInstructions for CCEE Graduation Ceremony:\nThe Lobby will be open for family & friends. Doors for the ceremony will open at 1 p.m. \nLine up for the procession begins at 1 p.m. SHARP. \nOrder of processional will be:  (alphabetically by last name according to the program provided at the ceremony) \n\nUndergraduates\nMCE\nMENE\nMS\nPh.D.\n\nNOTE:  Be mindful that other graduation ceremonies are taking place before\, during and after the CCEE Department ceremony. \nParking & Directions:   \n\nPNC Arena Parking\nMcKimmon Center Parking: Parking in the front lots of the McKimmon Center is free and usually plentiful. There are three smaller parking lots on each side of the center that are reserved for university employees. Visitors are asked to park in designated visitor parking spaces in order to avoid ticketing.\n\nThe McKimmon Center is located at 1101 Gorman Street\, Raleigh\, N.C. 27606. \nStudent Regalia \n\nRegalia should be worn by all graduates.\nClick here for information: Student Regalia.\n\nThe link above describes the different regalia and who wears what.\n\n\nPricing is included in the information.\n\nLive Feed Link\nFor those of you not able to attend\, you can live stream the ceremony. \nLive Feed Link:  CCEE Fall 2023 Graduation Ceremony – will be posted approximately a week before the ceremony. \nDiploma Distribution\nMay graduates: Final clearance for candidates other than Doctoral is early June. All diplomas will be mailed to the address the student listed as their “Diploma or Home/Mailing address” in their MyPack Portal by early July. \nSummer Session I graduates: Final clearance for candidates is late July\, and diplomas will be mailed to the address the student listed as their “Diploma or Home/Mailing address” in their MyPack Portal by late August. \nSummer Session II graduates: Final clearance for candidates is early September\, and diplomas will be mailed to the address the student listed as their “Diploma or Home/Mailing address” in their MyPack Portal by early October. \nFor additional information see Record & Registration’s page for Diploma Distribution. \nTo update your address\, see the link on CCEE Graduate Student Central > Update Directory Information \nSUMMER GRADUATES:\nUndergraduate Summer Degree Candidates:  If you know you will graduate and wish to walk in the Department Commencement Ceremony ONLY\, email Rachael Ayres. \nGraduate Summer Degree Candidates:  Thesis/Dissertation Summer Graduation Candidates who are confident they will be completing all ETD requirements over the summer who wish to to participate in the May Ceremony need to email Jodie Gregoritsch. The DGP will consider these requests on a case-by-case basis. \nGraduation Photos\nFor the professional photo’s taken at graduation\, contact: \nPhoto Specialties: 919-967-9576\, info@photospecialties.com  \nGraduate Students:\nGraduation Survey:  Complete this survey regarding the graduation ceremony and the program. It will take approximately 10 minutes of your time and will help us tremendously in a number of ways. \nInternational Students needing a Letter of Invitation:  If you need a letter of invitation for visa purposes\, email the GSC (jagrego2@ncsu.edu) with the following information: \n\nYour full name\nYour student ID #\nEach individual family member’s full name plus date of birth\nWhat their relationship is to you
URL:https://ccee.engr.it/event/ccee-spring-2023-commencement-ceremony-and-reception/
LOCATION:McKimmon Center\, 1101 Gorman St\, Raleigh\, NC\, 27606\, United States
CATEGORIES:Appear On Homepage
GEO:35.7827103;-78.6852193
X-APPLE-STRUCTURED-LOCATION;VALUE=URI;X-ADDRESS=McKimmon Center 1101 Gorman St Raleigh NC 27606 United States;X-APPLE-RADIUS=500;X-TITLE=1101 Gorman St:geo:-78.6852193,35.7827103
END:VEVENT
BEGIN:VEVENT
DTSTART;TZID=America/New_York:20220506T133000
DTEND;TZID=America/New_York:20220506T133000
DTSTAMP:20260421T205221
CREATED:20220330T180750Z
LAST-MODIFIED:20220503T211308Z
UID:10000891-1651843800-1651843800@ccee.engr.it
SUMMARY:CCEE Spring 2022 Commencement Ceremony
DESCRIPTION:Unable to attend the ceremony in person? Use this link to livestream the event on Friday starting at 1:30! \n  \nLivestream: https://loom.ly/Idqdgd0
URL:https://ccee.engr.it/event/ccee-spring-2022-commencement-ceremony/
LOCATION:McKimmon Center\, 1101 Gorman St\, Raleigh\, NC\, 27606\, United States
CATEGORIES:Appear On Homepage
GEO:35.7827103;-78.6852193
X-APPLE-STRUCTURED-LOCATION;VALUE=URI;X-ADDRESS=McKimmon Center 1101 Gorman St Raleigh NC 27606 United States;X-APPLE-RADIUS=500;X-TITLE=1101 Gorman St:geo:-78.6852193,35.7827103
END:VEVENT
BEGIN:VEVENT
DTSTART;TZID=America/New_York:20211213T100000
DTEND;TZID=America/New_York:20211213T100000
DTSTAMP:20260421T205221
CREATED:20211109T160729Z
LAST-MODIFIED:20211123T132047Z
UID:10000859-1639389600-1639389600@ccee.engr.it
SUMMARY:Fall 2021 Graduation
DESCRIPTION:Graduation will require tickets for guests.\nThe CCEE Department Graduation Ceremony will require tickets for entry of family and friend to attend the December ceremony. \n\nA maximum number of 6 tickets will be available to each graduate walking at the ceremony. This is determined based on the number of graduates and seating capacity of the venue.\nStudents can request tickets by submitting the Graduation Guest Ticket Request form (for Graduate Students) or Undergraduate Graduation Ticket Request.  Only request the number of tickets needed.  If you only need 2 tickets\, only request 2 tickets.\nTickets can be picked up during the week of (TBA).\n\nGraduate Students from FWH 3311 between the hours of 2:00 p.m.-5:00 p.m.\nUndergraduate Students from FHW 3315 between the hours of TBA.\n\n\nTickets not claimed after a certain date to be posted later will be released for any graduate needing additional tickets on a first-come-first-serve basis beginning Dec. 10.\nIf the need arises\, an overflow room will be made available in McKimmon running a live stream of the ceremony for family and friends wishing to attend the event without a ticket.\n\nGraduation Survey\nComplete this survey regarding the graduation ceremony and the program. It will take approximately 10 minutes of your time and will help us tremendously in a number of ways. \nDecember Graduation Ceremony Dates:\nSchedule of Events – Coming Soon \nTwo Ceremonies: CCEE Dept Ceremony and NC State University-wide Ceremony \n\n CCEE Department Graduation: Monday Dec. 13th at 10:00 a.m. in the McKimmon Center.\n(Duration of ceremony will be approximately 90 minutes) Guest Speaker: Mrs. Deborah Bell Young\, Retired | Global Capital Engineering Director\, Honeywell International\, Inc.\nUniversity Commencement: Dec. 14th @ 9:00 a.m. This embedded link includes information on the University Commencement including Schedule of Events\, Student Checklist\, Dining Options\, Dates & Deadlines\, FAQs.\n\nGraduation Deadlines \nETD Deadlines \nLetter of Invitation:  If you need a letter of invitation for visa purposes\, email the GSC (jagrego2@ncsu.edu) with the following information: \n\nYour full name\nYour student ID #\nEach individual family member’s full name plus date of birth\nWhat their relationship is to you\n\nStudent Regalia –\nRegalia should be worn by all graduates. \nInstructions for CCEE Graduation CEREMONY:\nLine up for the procession begins at 9:30 a.m. SHARP. \nThe Lobby will be open for family & friends. Doors for the ceremony will open at 9:30 a.m. \nTickets:  See ticket information above. \nParking & Directions:   \n\nPNC Arena Parking\nMcKimmon Center Parking: Parking in the front lots of the McKimmon Center is free and usually plentiful. There are three smaller parking lots on each side of the center that are reserved for university employees. Visitors are asked to park in designated visitor parking spaces in order to avoid ticketing.\n\nThe McKimmon Center is located at 1101 Gorman Street\, Raleigh\, N.C. 27606. \nLive Feed Link\nFor those of you not able to attend\, you can live stream the ceremony. Coming Soon. \nQR Code: Coming Soon. \n  \nDiploma Distribution\nDecember graduates: Final clearance for candidates other than Doctoral is late January. All diplomas will be mailed to the address the student listed as their “Diploma or Home/Mailing address” in their MyPack Portal mid-February. \nFor additional information see Record & Registration’s page for Diploma Distribution. \nTo update your address\, see the link on CCEE Graduate Student Central > Update Directory Information \nGraduation Photos\nFor the professional photo’s taken at graduation\, contact: \nPhoto Specialties – 919-967-9576 ¦ info@photospecialties.com 
URL:https://ccee.engr.it/event/fall-2021-graduation/
LOCATION:McKimmon Center\, 1101 Gorman St\, Raleigh\, NC\, 27606\, United States
CATEGORIES:Appear On Homepage
GEO:35.7827103;-78.6852193
X-APPLE-STRUCTURED-LOCATION;VALUE=URI;X-ADDRESS=McKimmon Center 1101 Gorman St Raleigh NC 27606 United States;X-APPLE-RADIUS=500;X-TITLE=1101 Gorman St:geo:-78.6852193,35.7827103
END:VEVENT
BEGIN:VEVENT
DTSTART;TZID=America/New_York:20190510T140000
DTEND;TZID=America/New_York:20190510T160000
DTSTAMP:20260421T205221
CREATED:20190301T154724Z
LAST-MODIFIED:20190301T154724Z
UID:10000594-1557496800-1557504000@ccee.engr.it
SUMMARY:May Graduation 2019
DESCRIPTION:
URL:https://ccee.engr.it/event/may-graduation-2019/
LOCATION:McKimmon Center\, 1101 Gorman St\, Raleigh\, NC\, 27606\, United States
GEO:35.7827103;-78.6852193
X-APPLE-STRUCTURED-LOCATION;VALUE=URI;X-ADDRESS=McKimmon Center 1101 Gorman St Raleigh NC 27606 United States;X-APPLE-RADIUS=500;X-TITLE=1101 Gorman St:geo:-78.6852193,35.7827103
END:VEVENT
BEGIN:VEVENT
DTSTART;TZID=America/New_York:20161215T133000
DTEND;TZID=America/New_York:20161215T150000
DTSTAMP:20260421T205221
CREATED:20161209T135337Z
LAST-MODIFIED:20161209T135356Z
UID:10000617-1481808600-1481814000@ccee.engr.it
SUMMARY:CCEE Graduation
DESCRIPTION:CCEE Fall 2016 Graduation ceremony will be held at the McKimmon Center. Our graduation speaker is Ms. Emilee Blount\, Director Engineering\, Technology and Geospatial Services  for the US Forest Service in Washington DC.
URL:https://ccee.engr.it/event/ccee-graduation/
LOCATION:McKimmon Center\, 1101 Gorman St\, Raleigh\, NC\, 27606\, United States
CATEGORIES:Appear On Homepage,Networking
GEO:35.7827103;-78.6852193
X-APPLE-STRUCTURED-LOCATION;VALUE=URI;X-ADDRESS=McKimmon Center 1101 Gorman St Raleigh NC 27606 United States;X-APPLE-RADIUS=500;X-TITLE=1101 Gorman St:geo:-78.6852193,35.7827103
END:VEVENT
BEGIN:VEVENT
DTSTART;TZID=America/New_York:20160920T080000
DTEND;TZID=America/New_York:20160921T170000
DTSTAMP:20260421T205221
CREATED:20160603T154618Z
LAST-MODIFIED:20160711T201532Z
UID:10000531-1474358400-1474477200@ccee.engr.it
SUMMARY:Engineering Career Fair
DESCRIPTION:Whether you are looking for a full-time job or a co-op or internship\, you will find the Engineering Career Fair at North Carolina State University a great place to start. Our Engineering Career Fair is one of the largest career fairs in the country held specifically for engineering students. The event provides an opportunity for prospective employers from a wide range of industries to meet with engineering students interested in working for their companies.
URL:https://ccee.engr.it/event/engineering-career-fair/
LOCATION:McKimmon Center\, 1101 Gorman St\, Raleigh\, NC\, 27606\, United States
CATEGORIES:Appear On Homepage
GEO:35.7827103;-78.6852193
X-APPLE-STRUCTURED-LOCATION;VALUE=URI;X-ADDRESS=McKimmon Center 1101 Gorman St Raleigh NC 27606 United States;X-APPLE-RADIUS=500;X-TITLE=1101 Gorman St:geo:-78.6852193,35.7827103
END:VEVENT
END:VCALENDAR