BEGIN:VCALENDAR
VERSION:2.0
PRODID:-//Old CCEE - ECPv6.15.20//NONSGML v1.0//EN
CALSCALE:GREGORIAN
METHOD:PUBLISH
X-ORIGINAL-URL:https://ccee.engr.it
X-WR-CALDESC:Events for Old CCEE
REFRESH-INTERVAL;VALUE=DURATION:PT1H
X-Robots-Tag:noindex
X-PUBLISHED-TTL:PT1H
BEGIN:VTIMEZONE
TZID:America/New_York
BEGIN:DAYLIGHT
TZOFFSETFROM:-0500
TZOFFSETTO:-0400
TZNAME:EDT
DTSTART:20200308T070000
END:DAYLIGHT
BEGIN:STANDARD
TZOFFSETFROM:-0400
TZOFFSETTO:-0500
TZNAME:EST
DTSTART:20201101T060000
END:STANDARD
BEGIN:DAYLIGHT
TZOFFSETFROM:-0500
TZOFFSETTO:-0400
TZNAME:EDT
DTSTART:20210314T070000
END:DAYLIGHT
BEGIN:STANDARD
TZOFFSETFROM:-0400
TZOFFSETTO:-0500
TZNAME:EST
DTSTART:20211107T060000
END:STANDARD
BEGIN:DAYLIGHT
TZOFFSETFROM:-0500
TZOFFSETTO:-0400
TZNAME:EDT
DTSTART:20220313T070000
END:DAYLIGHT
BEGIN:STANDARD
TZOFFSETFROM:-0400
TZOFFSETTO:-0500
TZNAME:EST
DTSTART:20221106T060000
END:STANDARD
BEGIN:DAYLIGHT
TZOFFSETFROM:-0500
TZOFFSETTO:-0400
TZNAME:EDT
DTSTART:20230312T070000
END:DAYLIGHT
BEGIN:STANDARD
TZOFFSETFROM:-0400
TZOFFSETTO:-0500
TZNAME:EST
DTSTART:20231105T060000
END:STANDARD
BEGIN:DAYLIGHT
TZOFFSETFROM:-0500
TZOFFSETTO:-0400
TZNAME:EDT
DTSTART:20240310T070000
END:DAYLIGHT
BEGIN:STANDARD
TZOFFSETFROM:-0400
TZOFFSETTO:-0500
TZNAME:EST
DTSTART:20241103T060000
END:STANDARD
BEGIN:DAYLIGHT
TZOFFSETFROM:-0500
TZOFFSETTO:-0400
TZNAME:EDT
DTSTART:20250309T070000
END:DAYLIGHT
BEGIN:STANDARD
TZOFFSETFROM:-0400
TZOFFSETTO:-0500
TZNAME:EST
DTSTART:20251102T060000
END:STANDARD
BEGIN:DAYLIGHT
TZOFFSETFROM:-0500
TZOFFSETTO:-0400
TZNAME:EDT
DTSTART:20260308T070000
END:DAYLIGHT
BEGIN:STANDARD
TZOFFSETFROM:-0400
TZOFFSETTO:-0500
TZNAME:EST
DTSTART:20261101T060000
END:STANDARD
BEGIN:DAYLIGHT
TZOFFSETFROM:-0500
TZOFFSETTO:-0400
TZNAME:EDT
DTSTART:20270314T070000
END:DAYLIGHT
BEGIN:STANDARD
TZOFFSETFROM:-0400
TZOFFSETTO:-0500
TZNAME:EST
DTSTART:20271107T060000
END:STANDARD
END:VTIMEZONE
BEGIN:VEVENT
DTSTART;TZID=America/New_York:20260323T150000
DTEND;TZID=America/New_York:20260323T170000
DTSTAMP:20260421T013220
CREATED:20260320T150453Z
LAST-MODIFIED:20260320T150453Z
UID:10001021-1774278000-1774285200@ccee.engr.it
SUMMARY:Brain Break with Wetherill Engineering
DESCRIPTION:Take a break and enjoy lawn games and snacks while connecting with Wetherill engineers and learning more about the projects and people behind a woman-owned civil engineering firm.
URL:https://ccee.engr.it/event/brain-break-with-wetherill-engineering/
LOCATION:The Oval on Centennial Campus\, Raleigh\, NC\, United States
CATEGORIES:Networking
ATTACH;FMTTYPE=image/jpeg:https://ccee.engr.it/wp-content/uploads/2026/03/MAH4864-scaled.jpg
END:VEVENT
BEGIN:VEVENT
DTSTART;TZID=America/New_York:20250904T160000
DTEND;TZID=America/New_York:20250904T200000
DTSTAMP:20260421T013220
CREATED:20250512T173252Z
LAST-MODIFIED:20250512T173252Z
UID:10001003-1757001600-1757016000@ccee.engr.it
SUMMARY:POP Back
DESCRIPTION:Join the Centennial Campus community as we pack the Oval with free food trucks\, games\, music\, and internship/co-op opportunities. \nDunk your favorite faculty and staff\, rock out with live music\, pose with Mr and Ms Wuf\, and check out every department\, student organization\, and campus group on Centennial\, and get to know some of the most popular employers at this blow-out event.
URL:https://ccee.engr.it/event/pop-back/
LOCATION:The Oval on Centennial Campus\, Raleigh\, NC\, United States
CATEGORIES:Appear On Homepage
END:VEVENT
BEGIN:VEVENT
DTSTART;TZID=America/New_York:20240822T150000
DTEND;TZID=America/New_York:20240822T160000
DTSTAMP:20260421T013220
CREATED:20240726T184732Z
LAST-MODIFIED:20240726T184810Z
UID:10000985-1724338800-1724342400@ccee.engr.it
SUMMARY:CCEE and ISE Ice Cream and Sorbet Social
DESCRIPTION:
URL:https://ccee.engr.it/event/ccee-ise-ice-cream-sorbet-social/
LOCATION:The Oval on Centennial Campus\, Raleigh\, NC\, United States
CATEGORIES:Appear On Homepage
END:VEVENT
BEGIN:VEVENT
DTSTART;TZID=America/New_York:20210827T130000
DTEND;TZID=America/New_York:20210827T150000
DTSTAMP:20260421T013220
CREATED:20210818T181920Z
LAST-MODIFIED:20210818T181947Z
UID:10000845-1630069200-1630076400@ccee.engr.it
SUMMARY:CCEE Graduation Celebration for the Class of 2020 and 2021
DESCRIPTION:We hope you can make it to the Department of Civil\, Construction\, and Environmental Engineering’s celebration for the Class of 2020 and Spring 2021! \nJoin us in the tent outside of Fitts-Woolard Hall in the Oval for an informal reception to celebrate your achievements. There will be a few short remarks\, refreshments and a time to gather with family and friends. \nPlease RSVP before 5 p.m. on Wednesday\, August 18 with the number of guest attending. \n  \nRSVP Link: https://docs.google.com/forms/d/e/1FAIpQLSeecObExj8k6vwGq_PeVekJtqKMy5sNfuazJ7qx1v6Gg-F09w/viewform
URL:https://ccee.engr.it/event/ccee-graduation-celebration-for-the-class-of-2020-and-2021/
LOCATION:The Oval on Centennial Campus\, Raleigh\, NC\, United States
CATEGORIES:Appear On Homepage
END:VEVENT
END:VCALENDAR