BEGIN:VCALENDAR
VERSION:2.0
PRODID:-//Old CCEE - ECPv6.15.20//NONSGML v1.0//EN
CALSCALE:GREGORIAN
METHOD:PUBLISH
X-WR-CALNAME:Old CCEE
X-ORIGINAL-URL:https://ccee.engr.it
X-WR-CALDESC:Events for Old CCEE
REFRESH-INTERVAL;VALUE=DURATION:PT1H
X-Robots-Tag:noindex
X-PUBLISHED-TTL:PT1H
BEGIN:VTIMEZONE
TZID:America/New_York
BEGIN:DAYLIGHT
TZOFFSETFROM:-0500
TZOFFSETTO:-0400
TZNAME:EDT
DTSTART:20250309T070000
END:DAYLIGHT
BEGIN:STANDARD
TZOFFSETFROM:-0400
TZOFFSETTO:-0500
TZNAME:EST
DTSTART:20251102T060000
END:STANDARD
BEGIN:DAYLIGHT
TZOFFSETFROM:-0500
TZOFFSETTO:-0400
TZNAME:EDT
DTSTART:20260308T070000
END:DAYLIGHT
BEGIN:STANDARD
TZOFFSETFROM:-0400
TZOFFSETTO:-0500
TZNAME:EST
DTSTART:20261101T060000
END:STANDARD
BEGIN:DAYLIGHT
TZOFFSETFROM:-0500
TZOFFSETTO:-0400
TZNAME:EDT
DTSTART:20270314T070000
END:DAYLIGHT
BEGIN:STANDARD
TZOFFSETFROM:-0400
TZOFFSETTO:-0500
TZNAME:EST
DTSTART:20271107T060000
END:STANDARD
END:VTIMEZONE
BEGIN:VEVENT
DTSTART;TZID=America/New_York:20260423T113000
DTEND;TZID=America/New_York:20260423T133000
DTSTAMP:20260421T000014
CREATED:20260414T193317Z
LAST-MODIFIED:20260415T143330Z
UID:10001022-1776943800-1776951000@ccee.engr.it
SUMMARY:End of Semester Picnic
DESCRIPTION:We’re planning our first annual end of semester picnic! CCEE students\, faculty and staff are welcome to grab lunch on the Oval and celebrate the end of the year. There will be free tacos from Moe’s and lawn games! This event would take place April 23 from 11:30am-1:30pm. \nPlease fill out the following form if you’re interested in attending. \nhttps://docs.google.com/forms/d/1x-uYGON_VT1sOmGzIvrbRFejUGD9szV66DibKhOMBRQ/edit?ts=69de6de3 \n 
URL:https://ccee.engr.it/event/end-of-semester-picnic/
LOCATION:The Oval on Centennial Campus\, Raleigh\, NC\, United States
ATTACH;FMTTYPE=image/jpeg:https://ccee.engr.it/wp-content/uploads/2026/03/MAH4864-scaled.jpg
END:VEVENT
END:VCALENDAR